|SUCCESS| pw129453 [PATCH] [v2] eal: provide per lcore macros for MS
dpdklab at iol.unh.edu
dpdklab at iol.unh.edu
Wed Jul 12 04:02:36 CEST 2023
Test-Label: iol-aarch-unit-testing
Test-Status: SUCCESS
http://dpdk.org/patch/129453
_Testing PASS_
Submitter: Tyler Retzlaff <roretzla at linux.microsoft.com>
Date: Tuesday, July 11 2023 15:52:27
DPDK git baseline: Repo:dpdk
Branch: master
CommitID:623dc9364dc6a818799941cc26dc8f70feb2bb24
129453 --> testing pass
Test environment and result as below:
+-----------------------------+----------------+------------------------------+---------------------------+--------------+
| Environment | dpdk_unit_test | cryptodev_sw_snow3g_autotest | cryptodev_sw_zuc_autotest | lpm_autotest |
+=============================+================+==============================+===========================+==============+
| (32-bit) ARM Ubuntu 20.04.4 | PASS | SKIPPED | SKIPPED | SKIPPED |
+-----------------------------+----------------+------------------------------+---------------------------+--------------+
| Debian 11 | SKIPPED | PASS | PASS | SKIPPED |
+-----------------------------+----------------+------------------------------+---------------------------+--------------+
| Ubuntu 20.04 ARM SVE | SKIPPED | SKIPPED | SKIPPED | PASS |
+-----------------------------+----------------+------------------------------+---------------------------+--------------+
(32-bit) ARM Ubuntu 20.04.4
Kernel: 5.4.0-148-generic aarch64
Compiler: gcc 9.4
Debian 11
Kernel: Container Host Kernel
Compiler: gcc 10.2.1
Ubuntu 20.04 ARM SVE
Kernel: 5.4.0-80-generic
Compiler: gcc 10.3.0 (Ubuntu 10.3.0-1ubuntu1~20.04)
To view detailed results, visit:
https://lab.dpdk.org/results/dashboard/patchsets/27043/
UNH-IOL DPDK Community Lab
To manage your email subscriptions, visit:
https://lab.dpdk.org/results/dashboard/preferences/subscriptions/
More information about the test-report
mailing list