|SUCCESS| pw129450-129452 [PATCH] [3/3] app/testpmd: fix meter mark

dpdklab at iol.unh.edu dpdklab at iol.unh.edu
Wed Jul 12 07:27:39 CEST 2023


Test-Label: iol-abi-testing
Test-Status: SUCCESS
http://dpdk.org/patch/129452

_Testing PASS_

Submitter: Alexander Kozyrev <akozyrev at nvidia.com>
Date: Tuesday, July 11 2023 15:20:44 
DPDK git baseline: Repo:dpdk
  Branch: master
  CommitID:623dc9364dc6a818799941cc26dc8f70feb2bb24

129450-129452 --> testing pass

Test environment and result as below:

+--------------+----------+
| Environment  | abi_test |
+==============+==========+
| Fedora 37    | PASS     |
+--------------+----------+
| RHEL8        | PASS     |
+--------------+----------+
| RHEL 7       | PASS     |
+--------------+----------+
| Ubuntu 22.04 | PASS     |
+--------------+----------+


Fedora 37
	Kernel: Depends on container host system
	Compiler: gcc 12.3.1

RHEL8
	Kernel: 4.18.0-240.10.1.el8_3.x86_64
	Compiler: gcc 8.3.1 20191121 (Red Hat 8.3.1-5)

RHEL 7
	Kernel: 4.18.0-240.10.1.el8_3.x86_64
	Compiler: gcc 4.8.5 20150623 (Red Hat 4.8.5-44)

Ubuntu 22.04
	Kernel: 4.18.0-240.10.1.el8_3.x86_64
	Compiler: gcc 11.3.0

To view detailed results, visit:
https://lab.dpdk.org/results/dashboard/patchsets/27042/

UNH-IOL DPDK Community Lab

To manage your email subscriptions, visit: 
https://lab.dpdk.org/results/dashboard/preferences/subscriptions/


More information about the test-report mailing list