|SUCCESS| pw129499 [PATCH] doc: announce deprecation of RTE_CPUFLAG_
dpdklab at iol.unh.edu
dpdklab at iol.unh.edu
Wed Jul 12 13:12:30 CEST 2023
Test-Label: iol-abi-testing
Test-Status: SUCCESS
http://dpdk.org/patch/129499
_Testing PASS_
Submitter: Sivaprasad Tummala <Sivaprasad.Tummala at amd.com>
Date: Wednesday, July 12 2023 10:18:42
DPDK git baseline: Repo:dpdk
Branch: master
CommitID:623dc9364dc6a818799941cc26dc8f70feb2bb24
129499 --> testing pass
Test environment and result as below:
+-----------------+----------+
| Environment | abi_test |
+=================+==========+
| Debian Bullseye | PASS |
+-----------------+----------+
| CentOS Stream 8 | PASS |
+-----------------+----------+
| Ubuntu 22.04 | PASS |
+-----------------+----------+
Debian Bullseye
Kernel: 5.4.0-122-generic
Compiler: gcc 10.2.1-6
CentOS Stream 8
Kernel: 4.18.0-240.10.1.el8_3.x86_64
Compiler: gcc 8.4.1 20200928
Ubuntu 22.04
Kernel: 4.18.0-240.10.1.el8_3.x86_64
Compiler: gcc 11.3.0
To view detailed results, visit:
https://lab.dpdk.org/results/dashboard/patchsets/27057/
UNH-IOL DPDK Community Lab
To manage your email subscriptions, visit:
https://lab.dpdk.org/results/dashboard/preferences/subscriptions/
More information about the test-report
mailing list