|SUCCESS| pw129515 [PATCH] net/nfp: fix invalid control message pack

dpdklab at iol.unh.edu dpdklab at iol.unh.edu
Thu Jul 13 05:41:58 CEST 2023


Test-Label: iol-abi-testing
Test-Status: SUCCESS
http://dpdk.org/patch/129515

_Testing PASS_

Submitter: Chaoyong He <chaoyong.he at corigine.com>
Date: Thursday, July 13 2023 03:02:17 
DPDK git baseline: Repo:dpdk
  Branch: master
  CommitID:655eb37b18b1b0dc4d106acdf0dfedde01cfb224

129515 --> testing pass

Test environment and result as below:

+---------------+----------+
|  Environment  | abi_test |
+===============+==========+
| Fedora 38     | PASS     |
+---------------+----------+
| Debian Buster | PASS     |
+---------------+----------+
| RHEL8         | PASS     |
+---------------+----------+
| RHEL 7        | PASS     |
+---------------+----------+
| Fedora 37     | PASS     |
+---------------+----------+


Fedora 38
	Kernel: Depends on container host
	Compiler: gcc 13.1.1

Debian Buster
	Kernel: 5.4.0-122-generic
	Compiler: gcc 8.3.0-6

RHEL8
	Kernel: 4.18.0-240.10.1.el8_3.x86_64
	Compiler: gcc 8.3.1 20191121 (Red Hat 8.3.1-5)

RHEL 7
	Kernel: 4.18.0-240.10.1.el8_3.x86_64
	Compiler: gcc 4.8.5 20150623 (Red Hat 4.8.5-44)

Fedora 37
	Kernel: Depends on container host system
	Compiler: gcc 12.3.1

To view detailed results, visit:
https://lab.dpdk.org/results/dashboard/patchsets/27061/

UNH-IOL DPDK Community Lab

To manage your email subscriptions, visit: 
https://lab.dpdk.org/results/dashboard/preferences/subscriptions/


More information about the test-report mailing list