|SUCCESS| pw129537-129540 [PATCH] [3/3] doc: announce bonding functi

dpdklab at iol.unh.edu dpdklab at iol.unh.edu
Fri Jul 14 12:29:32 CEST 2023


Test-Label: iol-aarch-unit-testing
Test-Status: SUCCESS
http://dpdk.org/patch/129540

_Testing PASS_

Submitter: Chaoyong He <chaoyong.he at corigine.com>
Date: Friday, July 14 2023 08:15:26 
DPDK git baseline: Repo:dpdk
  Branch: master
  CommitID:655eb37b18b1b0dc4d106acdf0dfedde01cfb224

129537-129540 --> testing pass

Test environment and result as below:

+-----------------------------+------------------------------+----------------+---------------------------+--------------+
|         Environment         | cryptodev_sw_snow3g_autotest | dpdk_unit_test | cryptodev_sw_zuc_autotest | lpm_autotest |
+=============================+==============================+================+===========================+==============+
| Debian 11                   | PASS                         | SKIPPED        | PASS                      | SKIPPED      |
+-----------------------------+------------------------------+----------------+---------------------------+--------------+
| (32-bit) ARM Ubuntu 20.04.4 | SKIPPED                      | PASS           | SKIPPED                   | SKIPPED      |
+-----------------------------+------------------------------+----------------+---------------------------+--------------+
| Ubuntu 20.04 ARM SVE        | SKIPPED                      | SKIPPED        | SKIPPED                   | PASS         |
+-----------------------------+------------------------------+----------------+---------------------------+--------------+


Debian 11
	Kernel: Container Host Kernel
	Compiler: gcc 10.2.1

(32-bit) ARM Ubuntu 20.04.4
	Kernel: 5.4.0-148-generic aarch64
	Compiler: gcc 9.4

Ubuntu 20.04 ARM SVE
	Kernel: 5.4.0-80-generic
	Compiler: gcc 10.3.0 (Ubuntu 10.3.0-1ubuntu1~20.04)

To view detailed results, visit:
https://lab.dpdk.org/results/dashboard/patchsets/27073/

UNH-IOL DPDK Community Lab

To manage your email subscriptions, visit: 
https://lab.dpdk.org/results/dashboard/preferences/subscriptions/


More information about the test-report mailing list