|SUCCESS| [GIT MASTER] d75b66ad1cf8b9c0a14020a4cd9ddcd34dea924b

dpdklab at iol.unh.edu dpdklab at iol.unh.edu
Tue Jul 18 06:43:58 CEST 2023


_Testing PASS_

Branch: tags/v22.11

d75b66ad1cf8b9c0a14020a4cd9ddcd34dea924b --> testing pass

Test environment and result as below:

+---------------+----------+
|  Environment  | abi_test |
+===============+==========+
| RHEL 7        | PASS     |
+---------------+----------+
| Debian Buster | PASS     |
+---------------+----------+
| Fedora 38     | PASS     |
+---------------+----------+


RHEL 7
	Kernel: 4.18.0-240.10.1.el8_3.x86_64
	Compiler: gcc 4.8.5 20150623 (Red Hat 4.8.5-44)

Debian Buster
	Kernel: 5.4.0-122-generic
	Compiler: gcc 8.3.0-6

Fedora 38
	Kernel: Depends on container host
	Compiler: clang 16.0.3

To view detailed results, visit:
https://lab.dpdk.org/results/dashboard/tarballs/25518/

UNH-IOL DPDK Community Lab

To manage your email subscriptions, visit: 
https://lab.dpdk.org/results/dashboard/preferences/subscriptions/


More information about the test-report mailing list