|SUCCESS| pw129633-129634 [PATCH] [v3,2/2] doc/contributing: guideli
dpdklab at iol.unh.edu
dpdklab at iol.unh.edu
Tue Jul 18 20:14:52 CEST 2023
Test-Label: iol-aarch-unit-testing
Test-Status: SUCCESS
http://dpdk.org/patch/129634
_Testing PASS_
Submitter: Bruce Richardson <bruce.richardson at intel.com>
Date: Tuesday, July 18 2023 16:48:02
DPDK git baseline: Repo:dpdk
Branch: master
CommitID:655eb37b18b1b0dc4d106acdf0dfedde01cfb224
129633-129634 --> testing pass
Test environment and result as below:
+-----------------------------+---------------------------+------------------------------+----------------+--------------+
| Environment | cryptodev_sw_zuc_autotest | cryptodev_sw_snow3g_autotest | dpdk_unit_test | lpm_autotest |
+=============================+===========================+==============================+================+==============+
| Debian 11 | PASS | PASS | SKIPPED | SKIPPED |
+-----------------------------+---------------------------+------------------------------+----------------+--------------+
| (32-bit) ARM Ubuntu 20.04.4 | SKIPPED | SKIPPED | PASS | SKIPPED |
+-----------------------------+---------------------------+------------------------------+----------------+--------------+
| Ubuntu 20.04 ARM SVE | SKIPPED | SKIPPED | SKIPPED | PASS |
+-----------------------------+---------------------------+------------------------------+----------------+--------------+
Debian 11
Kernel: Container Host Kernel
Compiler: gcc 10.2.1
(32-bit) ARM Ubuntu 20.04.4
Kernel: 5.4.0-148-generic aarch64
Compiler: gcc 9.4
Ubuntu 20.04 ARM SVE
Kernel: 5.4.0-80-generic
Compiler: gcc 10.3.0 (Ubuntu 10.3.0-1ubuntu1~20.04)
To view detailed results, visit:
https://lab.dpdk.org/results/dashboard/patchsets/27094/
UNH-IOL DPDK Community Lab
To manage your email subscriptions, visit:
https://lab.dpdk.org/results/dashboard/preferences/subscriptions/
More information about the test-report
mailing list