|SUCCESS| [GIT MASTER] 238f67ca9cc00be4248b14d9ca4412edb7da62f6
dpdklab at iol.unh.edu
dpdklab at iol.unh.edu
Wed Jul 19 04:05:33 CEST 2023
_Testing PASS_
Branch: dpdk
238f67ca9cc00be4248b14d9ca4412edb7da62f6 --> testing pass
Test environment and result as below:
+-----------------+----------------------------------+
| Environment | dpdk_kmod_compile_torvalds_linux |
+=================+==================================+
| Arch Linux | PASS |
+-----------------+----------------------------------+
| Debian Buster | PASS |
+-----------------+----------------------------------+
| Ubuntu 20.04 | PASS |
+-----------------+----------------------------------+
| RHEL8 | PASS |
+-----------------+----------------------------------+
| CentOS Stream 9 | PASS |
+-----------------+----------------------------------+
| Debian Bullseye | PASS |
+-----------------+----------------------------------+
| Ubuntu 22.04 | PASS |
+-----------------+----------------------------------+
| CentOS Stream 8 | PASS |
+-----------------+----------------------------------+
Arch Linux
Kernel: 5.4.0-73-generic
Compiler: gcc 11.1.0
Debian Buster
Kernel: 5.4.0-122-generic
Compiler: gcc 8.3.0-6
Ubuntu 20.04
Kernel: 4.18.0-240.10.1.el8_3.x86_64
Compiler: gcc 9.3.0-17ubuntu1~20.04
RHEL8
Kernel: 4.18.0-240.10.1.el8_3.x86_64
Compiler: gcc 8.3.1 20191121 (Red Hat 8.3.1-5)
CentOS Stream 9
Kernel: 4.18.0-240.10.1.el8_3.x86_64
Compiler: gcc 11.3.1 20220421
Debian Bullseye
Kernel: 5.4.0-122-generic
Compiler: gcc 10.2.1-6
Ubuntu 22.04
Kernel: 4.18.0-240.10.1.el8_3.x86_64
Compiler: gcc 11.3.0
CentOS Stream 8
Kernel: 4.18.0-240.10.1.el8_3.x86_64
Compiler: gcc 8.4.1 20200928
To view detailed results, visit:
https://lab.dpdk.org/results/dashboard/tarballs/25528/
UNH-IOL DPDK Community Lab
To manage your email subscriptions, visit:
https://lab.dpdk.org/results/dashboard/preferences/subscriptions/
More information about the test-report
mailing list