|SUCCESS| pw129651 [PATCH] [v11,1/1] dts: add smoke tests
dpdklab at iol.unh.edu
dpdklab at iol.unh.edu
Wed Jul 19 23:29:25 CEST 2023
Test-Label: iol-aarch-unit-testing
Test-Status: SUCCESS
http://dpdk.org/patch/129651
_Testing PASS_
Submitter: Jeremy Spewock <jspewock at iol.unh.edu>
Date: Wednesday, July 19 2023 20:16:54
DPDK git baseline: Repo:dpdk
Branch: master
CommitID:238f67ca9cc00be4248b14d9ca4412edb7da62f6
129651 --> testing pass
Test environment and result as below:
+-----------------------------+---------------------------+------------------------------+--------------+----------------+
| Environment | cryptodev_sw_zuc_autotest | cryptodev_sw_snow3g_autotest | lpm_autotest | dpdk_unit_test |
+=============================+===========================+==============================+==============+================+
| Debian 11 | PASS | PASS | SKIPPED | SKIPPED |
+-----------------------------+---------------------------+------------------------------+--------------+----------------+
| Ubuntu 20.04 ARM SVE | SKIPPED | SKIPPED | PASS | SKIPPED |
+-----------------------------+---------------------------+------------------------------+--------------+----------------+
| (32-bit) ARM Ubuntu 20.04.4 | SKIPPED | SKIPPED | SKIPPED | PASS |
+-----------------------------+---------------------------+------------------------------+--------------+----------------+
Debian 11
Kernel: Container Host Kernel
Compiler: gcc 10.2.1
Ubuntu 20.04 ARM SVE
Kernel: 5.4.0-80-generic
Compiler: gcc 10.3.0 (Ubuntu 10.3.0-1ubuntu1~20.04)
(32-bit) ARM Ubuntu 20.04.4
Kernel: 5.4.0-148-generic aarch64
Compiler: gcc 9.4
To view detailed results, visit:
https://lab.dpdk.org/results/dashboard/patchsets/27103/
UNH-IOL DPDK Community Lab
To manage your email subscriptions, visit:
https://lab.dpdk.org/results/dashboard/preferences/subscriptions/
More information about the test-report
mailing list