|SUCCESS| [GIT MASTER] 035968c78e798aa6fb81ceb45d06a44412a00912
dpdklab at iol.unh.edu
dpdklab at iol.unh.edu
Thu Jul 20 03:49:35 CEST 2023
_Testing PASS_
Branch: dpdk
035968c78e798aa6fb81ceb45d06a44412a00912 --> testing pass
Test environment and result as below:
+-----------------+----------------------------------+
| Environment | dpdk_kmod_compile_torvalds_linux |
+=================+==================================+
| CentOS Stream 8 | PASS |
+-----------------+----------------------------------+
| Ubuntu 22.04 | PASS |
+-----------------+----------------------------------+
| Ubuntu 20.04 | PASS |
+-----------------+----------------------------------+
| Debian Bullseye | PASS |
+-----------------+----------------------------------+
| CentOS Stream 9 | PASS |
+-----------------+----------------------------------+
| Arch Linux | PASS |
+-----------------+----------------------------------+
CentOS Stream 8
Kernel: 4.18.0-240.10.1.el8_3.x86_64
Compiler: gcc 8.4.1 20200928
Ubuntu 22.04
Kernel: 4.18.0-240.10.1.el8_3.x86_64
Compiler: gcc 11.3.0
Ubuntu 20.04
Kernel: 4.18.0-240.10.1.el8_3.x86_64
Compiler: gcc 9.3.0-17ubuntu1~20.04
Debian Bullseye
Kernel: 5.4.0-122-generic
Compiler: gcc 10.2.1-6
CentOS Stream 9
Kernel: 4.18.0-240.10.1.el8_3.x86_64
Compiler: gcc 11.3.1 20220421
Arch Linux
Kernel: 5.4.0-73-generic
Compiler: gcc 11.1.0
To view detailed results, visit:
https://lab.dpdk.org/results/dashboard/tarballs/25540/
UNH-IOL DPDK Community Lab
To manage your email subscriptions, visit:
https://lab.dpdk.org/results/dashboard/preferences/subscriptions/
More information about the test-report
mailing list