|SUCCESS| pw129653 [PATCH] usertools/rss: fix byte order of the defa

dpdklab at iol.unh.edu dpdklab at iol.unh.edu
Thu Jul 20 11:02:44 CEST 2023


Test-Label: iol-abi-testing
Test-Status: SUCCESS
http://dpdk.org/patch/129653

_Testing PASS_

Submitter: Robin Jarry <rjarry at redhat.com>
Date: Thursday, July 20 2023 08:15:01 
DPDK git baseline: Repo:dpdk
  Branch: master
  CommitID:035968c78e798aa6fb81ceb45d06a44412a00912

129653 --> testing pass

Test environment and result as below:

+-----------------+----------+
|   Environment   | abi_test |
+=================+==========+
| RHEL 7          | PASS     |
+-----------------+----------+
| Fedora 38       | PASS     |
+-----------------+----------+
| Debian Bullseye | PASS     |
+-----------------+----------+


RHEL 7
	Kernel: 4.18.0-240.10.1.el8_3.x86_64
	Compiler: gcc 4.8.5 20150623 (Red Hat 4.8.5-44)

Fedora 38
	Kernel: Depends on container host
	Compiler: clang 16.0.3

Debian Bullseye
	Kernel: 5.4.0-122-generic
	Compiler: gcc 10.2.1-6

To view detailed results, visit:
https://lab.dpdk.org/results/dashboard/patchsets/27105/

UNH-IOL DPDK Community Lab

To manage your email subscriptions, visit: 
https://lab.dpdk.org/results/dashboard/preferences/subscriptions/


More information about the test-report mailing list