|SUCCESS| pw129670 [PATCH] examples/ipsec-secgw: add security capabi
dpdklab at iol.unh.edu
dpdklab at iol.unh.edu
Thu Jul 20 17:57:15 CEST 2023
Test-Label: iol-abi-testing
Test-Status: SUCCESS
http://dpdk.org/patch/129670
_Testing PASS_
Submitter: Akhil Goyal <gakhil at marvell.com>
Date: Thursday, July 20 2023 13:21:23
DPDK git baseline: Repo:dpdk
Branch: master
CommitID:035968c78e798aa6fb81ceb45d06a44412a00912
129670 --> testing pass
Test environment and result as below:
+------------------+----------+
| Environment | abi_test |
+==================+==========+
| CentOS Stream 9 | PASS |
+------------------+----------+
| CentOS Stream 8 | PASS |
+------------------+----------+
| openSUSE Leap 15 | PASS |
+------------------+----------+
CentOS Stream 9
Kernel: 4.18.0-240.10.1.el8_3.x86_64
Compiler: gcc 11.3.1 20220421
CentOS Stream 8
Kernel: 4.18.0-240.10.1.el8_3.x86_64
Compiler: gcc 8.4.1 20200928
openSUSE Leap 15
Kernel: 4.18.0-240.10.1.el8_3.x86_64
Compiler: gcc 7.5.0
To view detailed results, visit:
https://lab.dpdk.org/results/dashboard/patchsets/27114/
UNH-IOL DPDK Community Lab
To manage your email subscriptions, visit:
https://lab.dpdk.org/results/dashboard/preferences/subscriptions/
More information about the test-report
mailing list