|SUCCESS| pw129690-129691 [PATCH] [v12,2/2] net/i40e: replace put fu
dpdklab at iol.unh.edu
dpdklab at iol.unh.edu
Fri Jul 21 20:03:33 CEST 2023
Test-Label: iol-abi-testing
Test-Status: SUCCESS
http://dpdk.org/patch/129691
_Testing PASS_
Submitter: Dharmik Thakkar <dharmikjayesh.thakkar at arm.com>
Date: Friday, July 21 2023 16:28:36
DPDK git baseline: Repo:dpdk
Branch: master
CommitID:fbafb3676c482dab60c0b5465b47f2ea33893a36
129690-129691 --> testing pass
Test environment and result as below:
+-----------------+----------+
| Environment | abi_test |
+=================+==========+
| Debian Bullseye | PASS |
+-----------------+----------+
| Debian Buster | PASS |
+-----------------+----------+
| CentOS Stream 8 | PASS |
+-----------------+----------+
Debian Bullseye
Kernel: 5.4.0-122-generic
Compiler: gcc 10.2.1-6
Debian Buster
Kernel: 5.4.0-122-generic
Compiler: gcc 8.3.0-6
CentOS Stream 8
Kernel: 4.18.0-240.10.1.el8_3.x86_64
Compiler: gcc 8.4.1 20200928
To view detailed results, visit:
https://lab.dpdk.org/results/dashboard/patchsets/27129/
UNH-IOL DPDK Community Lab
To manage your email subscriptions, visit:
https://lab.dpdk.org/results/dashboard/preferences/subscriptions/
More information about the test-report
mailing list