|SUCCESS| [GIT MASTER] 74913fd2e1579af164c81de3c109e9578d709e4d

dpdklab at iol.unh.edu dpdklab at iol.unh.edu
Wed Jul 26 04:14:26 CEST 2023


_Testing PASS_

Branch: dpdk

74913fd2e1579af164c81de3c109e9578d709e4d --> testing pass

Test environment and result as below:

+-----------------+----------------------------------+
|   Environment   | dpdk_kmod_compile_torvalds_linux |
+=================+==================================+
| Ubuntu 22.04    | PASS                             |
+-----------------+----------------------------------+
| CentOS Stream 9 | PASS                             |
+-----------------+----------------------------------+
| Debian Bullseye | PASS                             |
+-----------------+----------------------------------+
| Debian Buster   | PASS                             |
+-----------------+----------------------------------+
| RHEL8           | PASS                             |
+-----------------+----------------------------------+
| Arch Linux      | PASS                             |
+-----------------+----------------------------------+


Ubuntu 22.04
	Kernel: 4.18.0-240.10.1.el8_3.x86_64
	Compiler: gcc 11.3.0

CentOS Stream 9
	Kernel: 4.18.0-240.10.1.el8_3.x86_64
	Compiler: gcc 11.3.1 20220421

Debian Bullseye
	Kernel: 5.4.0-122-generic
	Compiler: gcc 10.2.1-6

Debian Buster
	Kernel: 5.4.0-122-generic
	Compiler: gcc 8.3.0-6

RHEL8
	Kernel: 4.18.0-240.10.1.el8_3.x86_64
	Compiler: gcc 8.3.1 20191121 (Red Hat 8.3.1-5)

Arch Linux
	Kernel: 5.4.0-73-generic
	Compiler: gcc 11.1.0

To view detailed results, visit:
https://lab.dpdk.org/results/dashboard/tarballs/25600/

UNH-IOL DPDK Community Lab

To manage your email subscriptions, visit: 
https://lab.dpdk.org/results/dashboard/preferences/subscriptions/


More information about the test-report mailing list