|SUCCESS| pw129705 [PATCH] [v2] app/test:subprocess synchronization

dpdklab at iol.unh.edu dpdklab at iol.unh.edu
Wed Jul 26 05:38:06 CEST 2023


Test-Label: iol-abi-testing
Test-Status: SUCCESS
http://dpdk.org/patch/129705

_Testing PASS_

Submitter: Kaisen You <kaisenx.you at intel.com>
Date: Wednesday, July 26 2023 02:39:47 
DPDK git baseline: Repo:dpdk
  Branch: master
  CommitID:74913fd2e1579af164c81de3c109e9578d709e4d

129705 --> testing pass

Test environment and result as below:

+------------------+----------+
|   Environment    | abi_test |
+==================+==========+
| Fedora 38        | PASS     |
+------------------+----------+
| CentOS Stream 8  | PASS     |
+------------------+----------+
| Ubuntu 22.04     | PASS     |
+------------------+----------+
| RHEL 7           | PASS     |
+------------------+----------+
| openSUSE Leap 15 | PASS     |
+------------------+----------+
| CentOS Stream 9  | PASS     |
+------------------+----------+
| RHEL8            | PASS     |
+------------------+----------+


Fedora 38
	Kernel: Depends on container host
	Compiler: gcc 13.1.1

CentOS Stream 8
	Kernel: 4.18.0-240.10.1.el8_3.x86_64
	Compiler: gcc 8.4.1 20200928

Ubuntu 22.04
	Kernel: 4.18.0-240.10.1.el8_3.x86_64
	Compiler: gcc 11.3.0

RHEL 7
	Kernel: 4.18.0-240.10.1.el8_3.x86_64
	Compiler: gcc 4.8.5 20150623 (Red Hat 4.8.5-44)

openSUSE Leap 15
	Kernel: 4.18.0-240.10.1.el8_3.x86_64
	Compiler: gcc 7.5.0

CentOS Stream 9
	Kernel: 4.18.0-240.10.1.el8_3.x86_64
	Compiler: gcc 11.3.1 20220421

RHEL8
	Kernel: 4.18.0-240.10.1.el8_3.x86_64
	Compiler: gcc 8.3.1 20191121 (Red Hat 8.3.1-5)

To view detailed results, visit:
https://lab.dpdk.org/results/dashboard/patchsets/27143/

UNH-IOL DPDK Community Lab

To manage your email subscriptions, visit: 
https://lab.dpdk.org/results/dashboard/preferences/subscriptions/


More information about the test-report mailing list