|SUCCESS| pw129713-129714 [PATCH] [v1,2/2] net/cnxk: add get flow ag

dpdklab at iol.unh.edu dpdklab at iol.unh.edu
Thu Jul 27 15:32:25 CEST 2023


Test-Label: iol-aarch-unit-testing
Test-Status: SUCCESS
http://dpdk.org/patch/129714

_Testing PASS_

Submitter: Ankur Dwivedi <adwivedi at marvell.com>
Date: Thursday, July 27 2023 11:59:26 
DPDK git baseline: Repo:dpdk
  Branch: master
  CommitID:d01be82476a1d3c7b4ffc24cd5286ca10844e6b2

129713-129714 --> testing pass

Test environment and result as below:

+-----------------------------+------------------------------+----------------+---------------------------+--------------+
|         Environment         | cryptodev_sw_snow3g_autotest | dpdk_unit_test | cryptodev_sw_zuc_autotest | lpm_autotest |
+=============================+==============================+================+===========================+==============+
| Debian 11                   | PASS                         | SKIPPED        | PASS                      | SKIPPED      |
+-----------------------------+------------------------------+----------------+---------------------------+--------------+
| (32-bit) ARM Ubuntu 20.04.4 | SKIPPED                      | PASS           | SKIPPED                   | SKIPPED      |
+-----------------------------+------------------------------+----------------+---------------------------+--------------+
| Ubuntu 20.04 ARM SVE        | SKIPPED                      | SKIPPED        | SKIPPED                   | PASS         |
+-----------------------------+------------------------------+----------------+---------------------------+--------------+


Debian 11
	Kernel: Container Host Kernel
	Compiler: gcc 10.2.1

(32-bit) ARM Ubuntu 20.04.4
	Kernel: 5.4.0-148-generic aarch64
	Compiler: gcc 9.4

Ubuntu 20.04 ARM SVE
	Kernel: 5.4.0-80-generic
	Compiler: gcc 10.3.0 (Ubuntu 10.3.0-1ubuntu1~20.04)

To view detailed results, visit:
https://lab.dpdk.org/results/dashboard/patchsets/27148/

UNH-IOL DPDK Community Lab

To manage your email subscriptions, visit: 
https://lab.dpdk.org/results/dashboard/preferences/subscriptions/


More information about the test-report mailing list