|SUCCESS| [GIT MASTER] 4334b7b405500254b8a3ddb056f78c5b4745f1ef

dpdklab at iol.unh.edu dpdklab at iol.unh.edu
Fri Jul 28 04:22:45 CEST 2023


_Testing PASS_

Branch: dpdk

4334b7b405500254b8a3ddb056f78c5b4745f1ef --> testing pass

Test environment and result as below:

+------------------+----------------------------------+
|   Environment    | dpdk_kmod_compile_torvalds_linux |
+==================+==================================+
| Debian Bullseye  | PASS                             |
+------------------+----------------------------------+
| openSUSE Leap 15 | PASS                             |
+------------------+----------------------------------+
| Debian Buster    | PASS                             |
+------------------+----------------------------------+
| Ubuntu 20.04     | PASS                             |
+------------------+----------------------------------+
| CentOS Stream 9  | PASS                             |
+------------------+----------------------------------+
| CentOS Stream 8  | PASS                             |
+------------------+----------------------------------+


Debian Bullseye
	Kernel: 5.4.0-122-generic
	Compiler: gcc 10.2.1-6

openSUSE Leap 15
	Kernel: 4.18.0-240.10.1.el8_3.x86_64
	Compiler: gcc 7.5.0

Debian Buster
	Kernel: 5.4.0-122-generic
	Compiler: gcc 8.3.0-6

Ubuntu 20.04
	Kernel: 4.18.0-240.10.1.el8_3.x86_64
	Compiler: gcc 9.3.0-17ubuntu1~20.04

CentOS Stream 9
	Kernel: 4.18.0-240.10.1.el8_3.x86_64
	Compiler: gcc 11.3.1 20220421

CentOS Stream 8
	Kernel: 4.18.0-240.10.1.el8_3.x86_64
	Compiler: gcc 8.4.1 20200928

To view detailed results, visit:
https://lab.dpdk.org/results/dashboard/tarballs/25618/

UNH-IOL DPDK Community Lab

To manage your email subscriptions, visit: 
https://lab.dpdk.org/results/dashboard/preferences/subscriptions/


More information about the test-report mailing list