|SUCCESS| pw129717 [PATCH] app/testpmd: fix UDP cksum error for UFO
dpdklab at iol.unh.edu
dpdklab at iol.unh.edu
Fri Jul 28 04:59:27 CEST 2023
Test-Label: iol-abi-testing
Test-Status: SUCCESS
http://dpdk.org/patch/129717
_Testing PASS_
Submitter: Huisong Li <lihuisong at huawei.com>
Date: Friday, July 28 2023 02:13:10
DPDK git baseline: Repo:dpdk
Branch: master
CommitID:4334b7b405500254b8a3ddb056f78c5b4745f1ef
129717 --> testing pass
Test environment and result as below:
+-----------------+----------+
| Environment | abi_test |
+=================+==========+
| Ubuntu 22.04 | PASS |
+-----------------+----------+
| Debian Buster | PASS |
+-----------------+----------+
| CentOS Stream 8 | PASS |
+-----------------+----------+
| Fedora 37 | PASS |
+-----------------+----------+
| RHEL 7 | PASS |
+-----------------+----------+
Ubuntu 22.04
Kernel: 4.18.0-240.10.1.el8_3.x86_64
Compiler: gcc 11.3.0
Debian Buster
Kernel: 5.4.0-122-generic
Compiler: gcc 8.3.0-6
CentOS Stream 8
Kernel: 4.18.0-240.10.1.el8_3.x86_64
Compiler: gcc 8.4.1 20200928
Fedora 37
Kernel: Depends on container host system
Compiler: gcc 12.3.1
RHEL 7
Kernel: 4.18.0-240.10.1.el8_3.x86_64
Compiler: gcc 4.8.5 20150623 (Red Hat 4.8.5-44)
To view detailed results, visit:
https://lab.dpdk.org/results/dashboard/patchsets/27151/
UNH-IOL DPDK Community Lab
To manage your email subscriptions, visit:
https://lab.dpdk.org/results/dashboard/preferences/subscriptions/
More information about the test-report
mailing list