|SUCCESS| pw129722 [PATCH] [v2] doc: announce new major ABI version

dpdklab at iol.unh.edu dpdklab at iol.unh.edu
Fri Jul 28 18:17:46 CEST 2023


Test-Label: iol-abi-testing
Test-Status: SUCCESS
http://dpdk.org/patch/129722

_Testing PASS_

Submitter: Thomas Monjalon <thomas at monjalon.net>
Date: Friday, July 28 2023 15:18:40 
DPDK git baseline: Repo:dpdk
  Branch: master
  CommitID:4334b7b405500254b8a3ddb056f78c5b4745f1ef

129722 --> testing pass

Test environment and result as below:

+-----------------+----------+
|   Environment   | abi_test |
+=================+==========+
| RHEL 7          | PASS     |
+-----------------+----------+
| Debian Buster   | PASS     |
+-----------------+----------+
| CentOS Stream 9 | PASS     |
+-----------------+----------+


RHEL 7
	Kernel: 4.18.0-240.10.1.el8_3.x86_64
	Compiler: gcc 4.8.5 20150623 (Red Hat 4.8.5-44)

Debian Buster
	Kernel: 5.4.0-122-generic
	Compiler: gcc 8.3.0-6

CentOS Stream 9
	Kernel: 4.18.0-240.10.1.el8_3.x86_64
	Compiler: gcc 11.3.1 20220421

To view detailed results, visit:
https://lab.dpdk.org/results/dashboard/patchsets/27154/

UNH-IOL DPDK Community Lab

To manage your email subscriptions, visit: 
https://lab.dpdk.org/results/dashboard/preferences/subscriptions/


More information about the test-report mailing list