|SUCCESS| pw129726 [PATCH] common/cnxk: fix setting default flow act
dpdklab at iol.unh.edu
dpdklab at iol.unh.edu
Mon Jul 31 06:03:47 CEST 2023
Test-Label: iol-aarch-unit-testing
Test-Status: SUCCESS
http://dpdk.org/patch/129726
_Testing PASS_
Submitter: Satheesh Paul Antonysamy <psatheesh at marvell.com>
Date: Monday, July 31 2023 02:56:07
DPDK git baseline: Repo:dpdk
Branch: master
CommitID:12fcafcd62286933e6b167b14856d21f642efa5f
129726 --> testing pass
Test environment and result as below:
+-----------------------------+---------------------------+--------------+----------------+------------------------------+
| Environment | cryptodev_sw_zuc_autotest | lpm_autotest | dpdk_unit_test | cryptodev_sw_snow3g_autotest |
+=============================+===========================+==============+================+==============================+
| Debian 11 | PASS | SKIPPED | SKIPPED | PASS |
+-----------------------------+---------------------------+--------------+----------------+------------------------------+
| Ubuntu 20.04 ARM SVE | SKIPPED | PASS | SKIPPED | SKIPPED |
+-----------------------------+---------------------------+--------------+----------------+------------------------------+
| (32-bit) ARM Ubuntu 20.04.4 | SKIPPED | SKIPPED | PASS | SKIPPED |
+-----------------------------+---------------------------+--------------+----------------+------------------------------+
Debian 11
Kernel: Container Host Kernel
Compiler: gcc 10.2.1
Ubuntu 20.04 ARM SVE
Kernel: 5.4.0-80-generic
Compiler: gcc 10.3.0 (Ubuntu 10.3.0-1ubuntu1~20.04)
(32-bit) ARM Ubuntu 20.04.4
Kernel: 5.4.0-148-generic aarch64
Compiler: gcc 9.4
To view detailed results, visit:
https://lab.dpdk.org/results/dashboard/patchsets/27157/
UNH-IOL DPDK Community Lab
To manage your email subscriptions, visit:
https://lab.dpdk.org/results/dashboard/preferences/subscriptions/
More information about the test-report
mailing list