|SUCCESS| pw129756 [PATCH] [v3] build: update DPDK to use C11 standa
dpdklab at iol.unh.edu
dpdklab at iol.unh.edu
Mon Jul 31 20:24:23 CEST 2023
Test-Label: iol-aarch-unit-testing
Test-Status: SUCCESS
http://dpdk.org/patch/129756
_Testing PASS_
Submitter: Bruce Richardson <bruce.richardson at intel.com>
Date: Monday, July 31 2023 16:58:11
DPDK git baseline: Repo:dpdk
Branch: master
CommitID:12fcafcd62286933e6b167b14856d21f642efa5f
129756 --> testing pass
Test environment and result as below:
+-----------------------------+--------------+------------------------------+----------------+---------------------------+
| Environment | lpm_autotest | cryptodev_sw_snow3g_autotest | dpdk_unit_test | cryptodev_sw_zuc_autotest |
+=============================+==============+==============================+================+===========================+
| Ubuntu 20.04 ARM SVE | PASS | SKIPPED | SKIPPED | SKIPPED |
+-----------------------------+--------------+------------------------------+----------------+---------------------------+
| Debian 11 | SKIPPED | PASS | SKIPPED | PASS |
+-----------------------------+--------------+------------------------------+----------------+---------------------------+
| (32-bit) ARM Ubuntu 20.04.4 | SKIPPED | SKIPPED | PASS | SKIPPED |
+-----------------------------+--------------+------------------------------+----------------+---------------------------+
Ubuntu 20.04 ARM SVE
Kernel: 5.4.0-80-generic
Compiler: gcc 10.3.0 (Ubuntu 10.3.0-1ubuntu1~20.04)
Debian 11
Kernel: Container Host Kernel
Compiler: gcc 10.2.1
(32-bit) ARM Ubuntu 20.04.4
Kernel: 5.4.0-148-generic aarch64
Compiler: gcc 9.4
To view detailed results, visit:
https://lab.dpdk.org/results/dashboard/patchsets/27171/
UNH-IOL DPDK Community Lab
To manage your email subscriptions, visit:
https://lab.dpdk.org/results/dashboard/preferences/subscriptions/
More information about the test-report
mailing list