|SUCCESS| pw129755 [PATCH] cmdline: remove cmdline_poll()
dpdklab at iol.unh.edu
dpdklab at iol.unh.edu
Mon Jul 31 21:02:27 CEST 2023
Test-Label: iol-aarch-unit-testing
Test-Status: SUCCESS
http://dpdk.org/patch/129755
_Testing PASS_
Submitter: Stephen Hemminger <stephen at networkplumber.org>
Date: Monday, July 31 2023 16:12:32
DPDK git baseline: Repo:dpdk
Branch: master
CommitID:12fcafcd62286933e6b167b14856d21f642efa5f
129755 --> testing pass
Test environment and result as below:
+-----------------------------+----------------+------------------------------+---------------------------+--------------+
| Environment | dpdk_unit_test | cryptodev_sw_snow3g_autotest | cryptodev_sw_zuc_autotest | lpm_autotest |
+=============================+================+==============================+===========================+==============+
| (32-bit) ARM Ubuntu 20.04.4 | PASS | SKIPPED | SKIPPED | SKIPPED |
+-----------------------------+----------------+------------------------------+---------------------------+--------------+
| Debian 11 | SKIPPED | PASS | PASS | SKIPPED |
+-----------------------------+----------------+------------------------------+---------------------------+--------------+
| Ubuntu 20.04 ARM SVE | SKIPPED | SKIPPED | SKIPPED | PASS |
+-----------------------------+----------------+------------------------------+---------------------------+--------------+
(32-bit) ARM Ubuntu 20.04.4
Kernel: 5.4.0-148-generic aarch64
Compiler: gcc 9.4
Debian 11
Kernel: Container Host Kernel
Compiler: gcc 10.2.1
Ubuntu 20.04 ARM SVE
Kernel: 5.4.0-80-generic
Compiler: gcc 10.3.0 (Ubuntu 10.3.0-1ubuntu1~20.04)
To view detailed results, visit:
https://lab.dpdk.org/results/dashboard/patchsets/27170/
UNH-IOL DPDK Community Lab
To manage your email subscriptions, visit:
https://lab.dpdk.org/results/dashboard/preferences/subscriptions/
More information about the test-report
mailing list