|SUCCESS| pw128224 [PATCH] [v4] gro : ipv6 changes to support GRO fo

dpdklab at iol.unh.edu dpdklab at iol.unh.edu
Thu Jun 8 23:23:23 CEST 2023


Test-Label: iol-aarch-unit-testing
Test-Status: SUCCESS
http://dpdk.org/patch/128224

_Testing PASS_

Submitter: kumaraparameshwaran rathinavel <kumaraparamesh92 at gmail.com>
Date: Tuesday, June 06 2023 14:58:02 
DPDK git baseline: Repo:dpdk
  Branch: master
  CommitID:38689022f609a290645c7027084aee720c1fcf91

128224 --> testing pass

Test environment and result as below:

+-----------------------------+----------------+------------------------------+--------------+---------------------------+
|         Environment         | dpdk_unit_test | cryptodev_sw_snow3g_autotest | lpm_autotest | cryptodev_sw_zuc_autotest |
+=============================+================+==============================+==============+===========================+
| (32-bit) ARM Ubuntu 20.04.4 | PASS           | SKIPPED                      | SKIPPED      | SKIPPED                   |
+-----------------------------+----------------+------------------------------+--------------+---------------------------+
| Debian 11                   | SKIPPED        | PASS                         | SKIPPED      | PASS                      |
+-----------------------------+----------------+------------------------------+--------------+---------------------------+
| Ubuntu 20.04 ARM SVE        | SKIPPED        | SKIPPED                      | PASS         | SKIPPED                   |
+-----------------------------+----------------+------------------------------+--------------+---------------------------+


(32-bit) ARM Ubuntu 20.04.4
	Kernel: 5.4.0-148-generic aarch64
	Compiler: gcc 9.4

Debian 11
	Kernel: Container Host Kernel
	Compiler: gcc 10.2.1

Ubuntu 20.04 ARM SVE
	Kernel: 5.4.0-80-generic
	Compiler: gcc 10.3.0 (Ubuntu 10.3.0-1ubuntu1~20.04)

To view detailed results, visit:
https://lab.dpdk.org/results/dashboard/patchsets/26556/

UNH-IOL DPDK Community Lab

To manage your email subscriptions, visit: 
https://lab.dpdk.org/results/dashboard/preferences/subscriptions/


More information about the test-report mailing list