|SUCCESS| pw128203 [PATCH] net/hns3: fix the way to trigger IMP rese

dpdklab at iol.unh.edu dpdklab at iol.unh.edu
Thu Jun 8 23:32:35 CEST 2023


Test-Label: iol-aarch-unit-testing
Test-Status: SUCCESS
http://dpdk.org/patch/128203

_Testing PASS_

Submitter: Dongdong Liu <liudongdong3 at huawei.com>
Date: Tuesday, June 06 2023 12:10:28 
DPDK git baseline: Repo:dpdk
  Branch: master
  CommitID:38689022f609a290645c7027084aee720c1fcf91

128203 --> testing pass

Test environment and result as below:

+-----------------------------+------------------------------+--------------+----------------+---------------------------+
|         Environment         | cryptodev_sw_snow3g_autotest | lpm_autotest | dpdk_unit_test | cryptodev_sw_zuc_autotest |
+=============================+==============================+==============+================+===========================+
| Debian 11                   | PASS                         | SKIPPED      | SKIPPED        | PASS                      |
+-----------------------------+------------------------------+--------------+----------------+---------------------------+
| Ubuntu 20.04 ARM SVE        | SKIPPED                      | PASS         | SKIPPED        | SKIPPED                   |
+-----------------------------+------------------------------+--------------+----------------+---------------------------+
| (32-bit) ARM Ubuntu 20.04.4 | SKIPPED                      | SKIPPED      | PASS           | SKIPPED                   |
+-----------------------------+------------------------------+--------------+----------------+---------------------------+


Debian 11
	Kernel: Container Host Kernel
	Compiler: gcc 10.2.1

Ubuntu 20.04 ARM SVE
	Kernel: 5.4.0-80-generic
	Compiler: gcc 10.3.0 (Ubuntu 10.3.0-1ubuntu1~20.04)

(32-bit) ARM Ubuntu 20.04.4
	Kernel: 5.4.0-148-generic aarch64
	Compiler: gcc 9.4

To view detailed results, visit:
https://lab.dpdk.org/results/dashboard/patchsets/26552/

UNH-IOL DPDK Community Lab

To manage your email subscriptions, visit: 
https://lab.dpdk.org/results/dashboard/preferences/subscriptions/


More information about the test-report mailing list