|SUCCESS| [GIT MASTER] cce10474cc07fcb72da5a2b828e544701d66a291
dpdklab at iol.unh.edu
dpdklab at iol.unh.edu
Fri Jun 9 00:33:18 CEST 2023
_Testing PASS_
Branch: dpdk-next-crypto
cce10474cc07fcb72da5a2b828e544701d66a291 --> testing pass
Test environment and result as below:
+-----------------------------+---------------------------+----------------+------------------------------+--------------+
| Environment | cryptodev_sw_zuc_autotest | dpdk_unit_test | cryptodev_sw_snow3g_autotest | lpm_autotest |
+=============================+===========================+================+==============================+==============+
| Debian 11 | PASS | SKIPPED | PASS | SKIPPED |
+-----------------------------+---------------------------+----------------+------------------------------+--------------+
| (32-bit) ARM Ubuntu 20.04.4 | SKIPPED | PASS | SKIPPED | SKIPPED |
+-----------------------------+---------------------------+----------------+------------------------------+--------------+
| Ubuntu 20.04 ARM SVE | SKIPPED | SKIPPED | SKIPPED | PASS |
+-----------------------------+---------------------------+----------------+------------------------------+--------------+
Debian 11
Kernel: Container Host Kernel
Compiler: gcc 10.2.1
(32-bit) ARM Ubuntu 20.04.4
Kernel: 5.4.0-148-generic aarch64
Compiler: gcc 9.4
Ubuntu 20.04 ARM SVE
Kernel: 5.4.0-80-generic
Compiler: gcc 10.3.0 (Ubuntu 10.3.0-1ubuntu1~20.04)
To view detailed results, visit:
https://lab.dpdk.org/results/dashboard/tarballs/24781/
UNH-IOL DPDK Community Lab
To manage your email subscriptions, visit:
https://lab.dpdk.org/results/dashboard/preferences/subscriptions/
More information about the test-report
mailing list