|SUCCESS| pw128451 [PATCH] net/nfp: fix TP flow action for UDP
dpdklab at iol.unh.edu
dpdklab at iol.unh.edu
Fri Jun 9 09:41:24 CEST 2023
Test-Label: iol-abi-testing
Test-Status: SUCCESS
http://dpdk.org/patch/128451
_Testing PASS_
Submitter: Chaoyong He <chaoyong.he at corigine.com>
Date: Friday, June 09 2023 06:22:19
DPDK git baseline: Repo:dpdk
Branch: master
CommitID:2125ed73e10ec028dd1b5fd6105aef80456e659e
128451 --> testing pass
Test environment and result as below:
+-----------------+----------+
| Environment | abi_test |
+=================+==========+
| Debian Bullseye | PASS |
+-----------------+----------+
| RHEL 7 | PASS |
+-----------------+----------+
| Ubuntu 22.04 | PASS |
+-----------------+----------+
Debian Bullseye
Kernel: 5.4.0-122-generic
Compiler: gcc 10.2.1-6
RHEL 7
Kernel: 4.18.0-240.10.1.el8_3.x86_64
Compiler: gcc 4.8.5 20150623 (Red Hat 4.8.5-44)
Ubuntu 22.04
Kernel: 4.18.0-240.10.1.el8_3.x86_64
Compiler: gcc 11.3.0
To view detailed results, visit:
https://lab.dpdk.org/results/dashboard/patchsets/26604/
UNH-IOL DPDK Community Lab
To manage your email subscriptions, visit:
https://lab.dpdk.org/results/dashboard/preferences/subscriptions/
More information about the test-report
mailing list