|SUCCESS| pw128397 [PATCH] [v6] app/testpmd: expand noisy neighbour

dpdklab at iol.unh.edu dpdklab at iol.unh.edu
Fri Jun 9 23:14:50 CEST 2023


Test-Label: iol-aarch-unit-testing
Test-Status: SUCCESS
http://dpdk.org/patch/128397

_Testing PASS_

Submitter: Mike Pattrick <mkp at redhat.com>
Date: Thursday, June 08 2023 09:59:07 
DPDK git baseline: Repo:dpdk
  Branch: master
  CommitID:55ead98d1de1b02fa563e822a67c7adc0361ddfb

128397 --> testing pass

Test environment and result as below:

+-----------------------------+------------------------------+---------------------------+----------------+--------------+
|         Environment         | cryptodev_sw_snow3g_autotest | cryptodev_sw_zuc_autotest | dpdk_unit_test | lpm_autotest |
+=============================+==============================+===========================+================+==============+
| Debian 11                   | PASS                         | PASS                      | SKIPPED        | SKIPPED      |
+-----------------------------+------------------------------+---------------------------+----------------+--------------+
| (32-bit) ARM Ubuntu 20.04.4 | SKIPPED                      | SKIPPED                   | PASS           | SKIPPED      |
+-----------------------------+------------------------------+---------------------------+----------------+--------------+
| Ubuntu 20.04 ARM SVE        | SKIPPED                      | SKIPPED                   | SKIPPED        | PASS         |
+-----------------------------+------------------------------+---------------------------+----------------+--------------+


Debian 11
	Kernel: Container Host Kernel
	Compiler: gcc 10.2.1

(32-bit) ARM Ubuntu 20.04.4
	Kernel: 5.4.0-148-generic aarch64
	Compiler: gcc 9.4

Ubuntu 20.04 ARM SVE
	Kernel: 5.4.0-80-generic
	Compiler: gcc 10.3.0 (Ubuntu 10.3.0-1ubuntu1~20.04)

To view detailed results, visit:
https://lab.dpdk.org/results/dashboard/patchsets/26594/

UNH-IOL DPDK Community Lab

To manage your email subscriptions, visit: 
https://lab.dpdk.org/results/dashboard/preferences/subscriptions/


More information about the test-report mailing list