|SUCCESS| pw128025-128027 [PATCH] [v3,3/3] crypto/openssl: add SM2 a

dpdklab at iol.unh.edu dpdklab at iol.unh.edu
Sat Jun 10 00:03:38 CEST 2023


Test-Label: iol-aarch-unit-testing
Test-Status: SUCCESS
http://dpdk.org/patch/128027

_Testing PASS_

Submitter: Gowrishankar Muthukrishnan <gmuthukrishn at marvell.com>
Date: Sunday, June 04 2023 09:42:46 
DPDK git baseline: Repo:dpdk
  Branch: master
  CommitID:abaa473297cf21cb81e5348185a7694ae2f221e7

128025-128027 --> testing pass

Test environment and result as below:

+-----------------------------+------------------------------+----------------+---------------------------+--------------+
|         Environment         | cryptodev_sw_snow3g_autotest | dpdk_unit_test | cryptodev_sw_zuc_autotest | lpm_autotest |
+=============================+==============================+================+===========================+==============+
| Debian 11                   | PASS                         | SKIPPED        | PASS                      | SKIPPED      |
+-----------------------------+------------------------------+----------------+---------------------------+--------------+
| (32-bit) ARM Ubuntu 20.04.4 | SKIPPED                      | PASS           | SKIPPED                   | SKIPPED      |
+-----------------------------+------------------------------+----------------+---------------------------+--------------+
| Ubuntu 20.04 ARM SVE        | SKIPPED                      | SKIPPED        | SKIPPED                   | PASS         |
+-----------------------------+------------------------------+----------------+---------------------------+--------------+


Debian 11
	Kernel: Container Host Kernel
	Compiler: gcc 10.2.1

(32-bit) ARM Ubuntu 20.04.4
	Kernel: 5.4.0-148-generic aarch64
	Compiler: gcc 9.4

Ubuntu 20.04 ARM SVE
	Kernel: 5.4.0-80-generic
	Compiler: gcc 10.3.0 (Ubuntu 10.3.0-1ubuntu1~20.04)

To view detailed results, visit:
https://lab.dpdk.org/results/dashboard/patchsets/26520/

UNH-IOL DPDK Community Lab

To manage your email subscriptions, visit: 
https://lab.dpdk.org/results/dashboard/preferences/subscriptions/


More information about the test-report mailing list