|SUCCESS| pw127739-127742 [PATCH] [v4,4/4] bus/pci: add VFIO sparse
dpdklab at iol.unh.edu
dpdklab at iol.unh.edu
Sat Jun 10 00:55:39 CEST 2023
Test-Label: iol-aarch64-unit-testing
Test-Status: SUCCESS
http://dpdk.org/patch/127742
_Testing PASS_
Submitter: Miao Li <miao.li at intel.com>
Date: Wednesday, May 31 2023 05:37:42
DPDK git baseline: Repo:dpdk
Branch: master
CommitID:c9df59bcc9bec67783de98486879594e52bdc418
127739-127742 --> testing pass
Test environment and result as below:
+-----------------------------+---------------------------+----------------+------------------------------+--------------+
| Environment | cryptodev_sw_zuc_autotest | dpdk_unit_test | cryptodev_sw_snow3g_autotest | lpm_autotest |
+=============================+===========================+================+==============================+==============+
| Debian 11 | PASS | SKIPPED | PASS | SKIPPED |
+-----------------------------+---------------------------+----------------+------------------------------+--------------+
| (32-bit) ARM Ubuntu 20.04.4 | SKIPPED | PASS | SKIPPED | SKIPPED |
+-----------------------------+---------------------------+----------------+------------------------------+--------------+
| Ubuntu 20.04 ARM SVE | SKIPPED | SKIPPED | SKIPPED | PASS |
+-----------------------------+---------------------------+----------------+------------------------------+--------------+
Debian 11
Kernel: Container Host Kernel
Compiler: gcc 10.2.1
(32-bit) ARM Ubuntu 20.04.4
Kernel: 5.4.0-148-generic aarch64
Compiler: gcc 9.4
Ubuntu 20.04 ARM SVE
Kernel: 5.4.0-80-generic
Compiler: gcc 10.3.0 (Ubuntu 10.3.0-1ubuntu1~20.04)
To view detailed results, visit:
https://lab.dpdk.org/results/dashboard/patchsets/26461/
UNH-IOL DPDK Community Lab
To manage your email subscriptions, visit:
https://lab.dpdk.org/results/dashboard/preferences/subscriptions/
More information about the test-report
mailing list