|SUCCESS| pw128482-128497 [PATCH] [v12,16/16] examples/l3fwd-graph:

dpdklab at iol.unh.edu dpdklab at iol.unh.edu
Sat Jun 10 03:13:09 CEST 2023


Test-Label: iol-abi-testing
Test-Status: SUCCESS
http://dpdk.org/patch/128497

_Testing PASS_

Submitter: Zhirun Yan <zhirun.yan at intel.com>
Date: Friday, June 09 2023 19:12:45 
DPDK git baseline: Repo:dpdk
  Branch: master
  CommitID:2125ed73e10ec028dd1b5fd6105aef80456e659e

128482-128497 --> testing pass

Test environment and result as below:

+------------------+----------+
|   Environment    | abi_test |
+==================+==========+
| RHEL 7           | PASS     |
+------------------+----------+
| openSUSE Leap 15 | PASS     |
+------------------+----------+
| CentOS Stream 9  | PASS     |
+------------------+----------+


RHEL 7
	Kernel: 4.18.0-240.10.1.el8_3.x86_64
	Compiler: gcc 4.8.5 20150623 (Red Hat 4.8.5-44)

openSUSE Leap 15
	Kernel: 4.18.0-240.10.1.el8_3.x86_64
	Compiler: gcc 7.5.0

CentOS Stream 9
	Kernel: 4.18.0-240.10.1.el8_3.x86_64
	Compiler: gcc 11.3.1 20220421

To view detailed results, visit:
https://lab.dpdk.org/results/dashboard/patchsets/26620/

UNH-IOL DPDK Community Lab

To manage your email subscriptions, visit: 
https://lab.dpdk.org/results/dashboard/preferences/subscriptions/


More information about the test-report mailing list