|SUCCESS| pw128482-128497 [PATCH] [v12,16/16] examples/l3fwd-graph:

dpdklab at iol.unh.edu dpdklab at iol.unh.edu
Sat Jun 10 03:46:13 CEST 2023


Test-Label: iol-aarch-unit-testing
Test-Status: SUCCESS
http://dpdk.org/patch/128497

_Testing PASS_

Submitter: Zhirun Yan <zhirun.yan at intel.com>
Date: Friday, June 09 2023 19:12:45 
DPDK git baseline: Repo:dpdk
  Branch: master
  CommitID:2125ed73e10ec028dd1b5fd6105aef80456e659e

128482-128497 --> testing pass

Test environment and result as below:

+-----------------------------+------------------------------+----------------+---------------------------+--------------+
|         Environment         | cryptodev_sw_snow3g_autotest | dpdk_unit_test | cryptodev_sw_zuc_autotest | lpm_autotest |
+=============================+==============================+================+===========================+==============+
| Debian 11                   | PASS                         | SKIPPED        | PASS                      | SKIPPED      |
+-----------------------------+------------------------------+----------------+---------------------------+--------------+
| (32-bit) ARM Ubuntu 20.04.4 | SKIPPED                      | PASS           | SKIPPED                   | SKIPPED      |
+-----------------------------+------------------------------+----------------+---------------------------+--------------+
| Ubuntu 20.04 ARM SVE        | SKIPPED                      | SKIPPED        | SKIPPED                   | PASS         |
+-----------------------------+------------------------------+----------------+---------------------------+--------------+


Debian 11
	Kernel: Container Host Kernel
	Compiler: gcc 10.2.1

(32-bit) ARM Ubuntu 20.04.4
	Kernel: 5.4.0-148-generic aarch64
	Compiler: gcc 9.4

Ubuntu 20.04 ARM SVE
	Kernel: 5.4.0-80-generic
	Compiler: gcc 10.3.0 (Ubuntu 10.3.0-1ubuntu1~20.04)

To view detailed results, visit:
https://lab.dpdk.org/results/dashboard/patchsets/26620/

UNH-IOL DPDK Community Lab

To manage your email subscriptions, visit: 
https://lab.dpdk.org/results/dashboard/preferences/subscriptions/


More information about the test-report mailing list