|SUCCESS| pw128499 [PATCH] config/arm: add Ampere Altra/AltraMax/Amp
dpdklab at iol.unh.edu
dpdklab at iol.unh.edu
Mon Jun 12 04:31:40 CEST 2023
Test-Label: iol-aarch-unit-testing
Test-Status: SUCCESS
http://dpdk.org/patch/128499
_Testing PASS_
Submitter: Yutang Jiang <jiangyutang at os.amperecomputing.com>
Date: Sunday, June 11 2023 05:03:10
DPDK git baseline: Repo:dpdk
Branch: master
CommitID:abb4cc0efc1b0f7779bbe3e24bcb362146351c6e
128499 --> testing pass
Test environment and result as below:
+-----------------------------+----------------+------------------------------+---------------------------+--------------+
| Environment | dpdk_unit_test | cryptodev_sw_snow3g_autotest | cryptodev_sw_zuc_autotest | lpm_autotest |
+=============================+================+==============================+===========================+==============+
| (32-bit) ARM Ubuntu 20.04.4 | PASS | SKIPPED | SKIPPED | SKIPPED |
+-----------------------------+----------------+------------------------------+---------------------------+--------------+
| Debian 11 | SKIPPED | PASS | PASS | SKIPPED |
+-----------------------------+----------------+------------------------------+---------------------------+--------------+
| Ubuntu 20.04 ARM SVE | SKIPPED | SKIPPED | SKIPPED | PASS |
+-----------------------------+----------------+------------------------------+---------------------------+--------------+
(32-bit) ARM Ubuntu 20.04.4
Kernel: 5.4.0-148-generic aarch64
Compiler: gcc 9.4
Debian 11
Kernel: Container Host Kernel
Compiler: gcc 10.2.1
Ubuntu 20.04 ARM SVE
Kernel: 5.4.0-80-generic
Compiler: gcc 10.3.0 (Ubuntu 10.3.0-1ubuntu1~20.04)
To view detailed results, visit:
https://lab.dpdk.org/results/dashboard/patchsets/26622/
UNH-IOL DPDK Community Lab
To manage your email subscriptions, visit:
https://lab.dpdk.org/results/dashboard/preferences/subscriptions/
More information about the test-report
mailing list