|SUCCESS| pw128498 [PATCH] [v5] lib/net: add MPLS insert and strip f

dpdklab at iol.unh.edu dpdklab at iol.unh.edu
Mon Jun 12 04:49:27 CEST 2023


Test-Label: iol-abi-testing
Test-Status: SUCCESS
http://dpdk.org/patch/128498

_Testing PASS_

Submitter: Tanzeel-inline <tanxeel1.ahmed at gmail.com>
Date: Saturday, June 10 2023 20:17:10 
DPDK git baseline: Repo:dpdk
  Branch: master
  CommitID:abb4cc0efc1b0f7779bbe3e24bcb362146351c6e

128498 --> testing pass

Test environment and result as below:

+------------------+----------+
|   Environment    | abi_test |
+==================+==========+
| RHEL8            | PASS     |
+------------------+----------+
| CentOS Stream 9  | PASS     |
+------------------+----------+
| openSUSE Leap 15 | PASS     |
+------------------+----------+


RHEL8
	Kernel: 4.18.0-240.10.1.el8_3.x86_64
	Compiler: gcc 8.3.1 20191121 (Red Hat 8.3.1-5)

CentOS Stream 9
	Kernel: 4.18.0-240.10.1.el8_3.x86_64
	Compiler: gcc 11.3.1 20220421

openSUSE Leap 15
	Kernel: 4.18.0-240.10.1.el8_3.x86_64
	Compiler: gcc 7.5.0

To view detailed results, visit:
https://lab.dpdk.org/results/dashboard/patchsets/26621/

UNH-IOL DPDK Community Lab

To manage your email subscriptions, visit: 
https://lab.dpdk.org/results/dashboard/preferences/subscriptions/


More information about the test-report mailing list