|SUCCESS| [GIT MASTER] 050de60d8a5cef8b7c10b4471905ca8bf69d670e

dpdklab at iol.unh.edu dpdklab at iol.unh.edu
Tue Jun 13 04:36:02 CEST 2023


_Testing PASS_

Branch: dpdk

050de60d8a5cef8b7c10b4471905ca8bf69d670e --> testing pass

Test environment and result as below:

+------------------+----------------------------------+
|   Environment    | dpdk_kmod_compile_torvalds_linux |
+==================+==================================+
| CentOS Stream 9  | PASS                             |
+------------------+----------------------------------+
| CentOS Stream 8  | PASS                             |
+------------------+----------------------------------+
| Ubuntu 20.04     | PASS                             |
+------------------+----------------------------------+
| RHEL8            | PASS                             |
+------------------+----------------------------------+
| Ubuntu 22.04     | PASS                             |
+------------------+----------------------------------+
| Debian Buster    | PASS                             |
+------------------+----------------------------------+
| Debian Bullseye  | PASS                             |
+------------------+----------------------------------+
| openSUSE Leap 15 | PASS                             |
+------------------+----------------------------------+
| Arch Linux       | PASS                             |
+------------------+----------------------------------+


CentOS Stream 9
	Kernel: 4.18.0-240.10.1.el8_3.x86_64
	Compiler: gcc 11.3.1 20220421

CentOS Stream 8
	Kernel: 4.18.0-240.10.1.el8_3.x86_64
	Compiler: gcc 8.4.1 20200928

Ubuntu 20.04
	Kernel: 4.18.0-240.10.1.el8_3.x86_64
	Compiler: gcc 9.3.0-17ubuntu1~20.04

RHEL8
	Kernel: 4.18.0-240.10.1.el8_3.x86_64
	Compiler: gcc 8.3.1 20191121 (Red Hat 8.3.1-5)

Ubuntu 22.04
	Kernel: 4.18.0-240.10.1.el8_3.x86_64
	Compiler: gcc 11.3.0

Debian Buster
	Kernel: 5.4.0-122-generic
	Compiler: gcc 8.3.0-6

Debian Bullseye
	Kernel: 5.4.0-122-generic
	Compiler: gcc 10.2.1-6

openSUSE Leap 15
	Kernel: 4.18.0-240.10.1.el8_3.x86_64
	Compiler: gcc 7.5.0

Arch Linux
	Kernel: 5.4.0-73-generic
	Compiler: gcc 11.1.0

To view detailed results, visit:
https://lab.dpdk.org/results/dashboard/tarballs/24965/

UNH-IOL DPDK Community Lab

To manage your email subscriptions, visit: 
https://lab.dpdk.org/results/dashboard/preferences/subscriptions/


More information about the test-report mailing list