|SUCCESS| pw128564-128578 [PATCH] [v4,15/15] net/cnxk: add MACsec st
dpdklab at iol.unh.edu
dpdklab at iol.unh.edu
Tue Jun 13 15:23:39 CEST 2023
Test-Label: iol-aarch-unit-testing
Test-Status: SUCCESS
http://dpdk.org/patch/128578
_Testing PASS_
Submitter: Akhil Goyal <gakhil at marvell.com>
Date: Tuesday, June 13 2023 10:20:09
DPDK git baseline: Repo:dpdk-next-net-mrvl
Branch: master
CommitID:4bd2643755e8e6b7ef7b5eaac5a8930473bea5b4
128564-128578 --> testing pass
Test environment and result as below:
+-----------------------------+----------------+------------------------------+--------------+---------------------------+
| Environment | dpdk_unit_test | cryptodev_sw_snow3g_autotest | lpm_autotest | cryptodev_sw_zuc_autotest |
+=============================+================+==============================+==============+===========================+
| (32-bit) ARM Ubuntu 20.04.4 | PASS | SKIPPED | SKIPPED | SKIPPED |
+-----------------------------+----------------+------------------------------+--------------+---------------------------+
| Debian 11 | SKIPPED | PASS | SKIPPED | PASS |
+-----------------------------+----------------+------------------------------+--------------+---------------------------+
| Ubuntu 20.04 ARM SVE | SKIPPED | SKIPPED | PASS | SKIPPED |
+-----------------------------+----------------+------------------------------+--------------+---------------------------+
(32-bit) ARM Ubuntu 20.04.4
Kernel: 5.4.0-148-generic aarch64
Compiler: gcc 9.4
Debian 11
Kernel: Container Host Kernel
Compiler: gcc 10.2.1
Ubuntu 20.04 ARM SVE
Kernel: 5.4.0-80-generic
Compiler: gcc 10.3.0 (Ubuntu 10.3.0-1ubuntu1~20.04)
To view detailed results, visit:
https://lab.dpdk.org/results/dashboard/patchsets/26656/
UNH-IOL DPDK Community Lab
To manage your email subscriptions, visit:
https://lab.dpdk.org/results/dashboard/preferences/subscriptions/
More information about the test-report
mailing list