|SUCCESS| pw128551 [PATCH] net/e1000: fixed initialize queue number
dpdklab at iol.unh.edu
dpdklab at iol.unh.edu
Tue Jun 13 16:19:32 CEST 2023
Test-Label: iol-unit-testing
Test-Status: SUCCESS
http://dpdk.org/patch/128551
_Testing PASS_
Submitter: Qiming Yang <qiming.yang at intel.com>
Date: Tuesday, June 13 2023 07:51:51
DPDK git baseline: Repo:dpdk
Branch: master
CommitID:050de60d8a5cef8b7c10b4471905ca8bf69d670e
128551 --> testing pass
Test environment and result as below:
+--------------------------+----------------+
| Environment | dpdk_unit_test |
+==========================+================+
| Debian Buster | PASS |
+--------------------------+----------------+
| CentOS Stream 9 | PASS |
+--------------------------+----------------+
| CentOS Stream 8 | PASS |
+--------------------------+----------------+
| Debian Bullseye | PASS |
+--------------------------+----------------+
| Fedora 37 | PASS |
+--------------------------+----------------+
| openSUSE Leap 15 | PASS |
+--------------------------+----------------+
| Ubuntu 20.04 | PASS |
+--------------------------+----------------+
| Ubuntu 22.04 | PASS |
+--------------------------+----------------+
| CentOS Stream 9 (ARM) | PASS |
+--------------------------+----------------+
| RHEL8 | PASS |
+--------------------------+----------------+
| RHEL 7 | PASS |
+--------------------------+----------------+
| Fedora 38 | PASS |
+--------------------------+----------------+
| Debian 11 (Buster) (ARM) | PASS |
+--------------------------+----------------+
| Fedora 37 (ARM) | PASS |
+--------------------------+----------------+
| Ubuntu 20.04 (ARM) | PASS |
+--------------------------+----------------+
| Fedora 38 (ARM) | PASS |
+--------------------------+----------------+
Debian Buster
Kernel: 5.4.0-122-generic
Compiler: gcc 8.3.0-6
CentOS Stream 9
Kernel: 4.18.0-240.10.1.el8_3.x86_64
Compiler: gcc 11.3.1 20220421
CentOS Stream 8
Kernel: 4.18.0-240.10.1.el8_3.x86_64
Compiler: gcc 8.4.1 20200928
Debian Bullseye
Kernel: 5.4.0-122-generic
Compiler: gcc 10.2.1-6
Fedora 37
Kernel: Depends on container host system
Compiler: gcc 12.3.1
openSUSE Leap 15
Kernel: 4.18.0-240.10.1.el8_3.x86_64
Compiler: gcc 7.5.0
Ubuntu 20.04
Kernel: 4.18.0-240.10.1.el8_3.x86_64
Compiler: gcc 9.3.0-17ubuntu1~20.04
Ubuntu 22.04
Kernel: 4.18.0-240.10.1.el8_3.x86_64
Compiler: gcc 11.3.0
CentOS Stream 9 (ARM)
Kernel: Container Host Kernel
Compiler: gcc 11.3.1
RHEL8
Kernel: 4.18.0-240.10.1.el8_3.x86_64
Compiler: gcc 8.3.1 20191121 (Red Hat 8.3.1-5)
RHEL 7
Kernel: 4.18.0-240.10.1.el8_3.x86_64
Compiler: gcc 4.8.5 20150623 (Red Hat 4.8.5-44)
Fedora 38
Kernel: Depends on container host
Compiler: gcc 13.1.1
Debian 11 (Buster) (ARM)
Kernel: Container Host Kernel
Compiler: gcc 10.2.1
Fedora 37 (ARM)
Kernel: Depends on container host
Compiler: gcc 12.3.1
Ubuntu 20.04 (ARM)
Kernel: Container Host Kernel
Compiler: gcc 9.4.0
Fedora 38 (ARM)
Kernel: Depends on container host
Compiler: gcc 13.1.1
To view detailed results, visit:
https://lab.dpdk.org/results/dashboard/patchsets/26650/
UNH-IOL DPDK Community Lab
To manage your email subscriptions, visit:
https://lab.dpdk.org/results/dashboard/preferences/subscriptions/
More information about the test-report
mailing list