|SUCCESS| pw128666 [PATCH] bus/cdx: Move debug print before unmappin

dpdklab at iol.unh.edu dpdklab at iol.unh.edu
Wed Jun 14 18:08:28 CEST 2023


Test-Label: iol-abi-testing
Test-Status: SUCCESS
http://dpdk.org/patch/128666

_Testing PASS_

Submitter: Abhijit Gangurde <abhijit.gangurde at amd.com>
Date: Wednesday, June 14 2023 10:23:14 
DPDK git baseline: Repo:dpdk
  Branch: master
  CommitID:050de60d8a5cef8b7c10b4471905ca8bf69d670e

128666 --> testing pass

Test environment and result as below:

+---------------+----------+
|  Environment  | abi_test |
+===============+==========+
| Fedora 37     | PASS     |
+---------------+----------+
| Fedora 38     | PASS     |
+---------------+----------+
| RHEL 7        | PASS     |
+---------------+----------+
| Debian Buster | PASS     |
+---------------+----------+


Fedora 37
	Kernel: Depends on container host system
	Compiler: gcc 12.3.1

Fedora 38
	Kernel: Depends on container host
	Compiler: gcc 13.1.1

RHEL 7
	Kernel: 4.18.0-240.10.1.el8_3.x86_64
	Compiler: gcc 4.8.5 20150623 (Red Hat 4.8.5-44)

Debian Buster
	Kernel: 5.4.0-122-generic
	Compiler: gcc 8.3.0-6

To view detailed results, visit:
https://lab.dpdk.org/results/dashboard/patchsets/26680/

UNH-IOL DPDK Community Lab

To manage your email subscriptions, visit: 
https://lab.dpdk.org/results/dashboard/preferences/subscriptions/


More information about the test-report mailing list