|SUCCESS| pw128664 [PATCH] [v2] net/iavf: fix abnormal disable HW in

dpdklab at iol.unh.edu dpdklab at iol.unh.edu
Thu Jun 15 01:08:40 CEST 2023


Test-Label: iol-abi-testing
Test-Status: SUCCESS
http://dpdk.org/patch/128664

_Testing PASS_

Submitter: Mingjin Ye <mingjinx.ye at intel.com>
Date: Wednesday, June 14 2023 09:53:03 
DPDK git baseline: Repo:dpdk
  Branch: master
  CommitID:050de60d8a5cef8b7c10b4471905ca8bf69d670e

128664 --> testing pass

Test environment and result as below:

+------------------+----------+
|   Environment    | abi_test |
+==================+==========+
| Debian Bullseye  | PASS     |
+------------------+----------+
| Debian Buster    | PASS     |
+------------------+----------+
| RHEL8            | PASS     |
+------------------+----------+
| Fedora 37        | PASS     |
+------------------+----------+
| openSUSE Leap 15 | PASS     |
+------------------+----------+
| CentOS Stream 8  | PASS     |
+------------------+----------+
| CentOS Stream 9  | PASS     |
+------------------+----------+


Debian Bullseye
	Kernel: 5.4.0-122-generic
	Compiler: gcc 10.2.1-6

Debian Buster
	Kernel: 5.4.0-122-generic
	Compiler: gcc 8.3.0-6

RHEL8
	Kernel: 4.18.0-240.10.1.el8_3.x86_64
	Compiler: gcc 8.3.1 20191121 (Red Hat 8.3.1-5)

Fedora 37
	Kernel: Depends on container host system
	Compiler: gcc 12.3.1

openSUSE Leap 15
	Kernel: 4.18.0-240.10.1.el8_3.x86_64
	Compiler: gcc 7.5.0

CentOS Stream 8
	Kernel: 4.18.0-240.10.1.el8_3.x86_64
	Compiler: gcc 8.4.1 20200928

CentOS Stream 9
	Kernel: 4.18.0-240.10.1.el8_3.x86_64
	Compiler: gcc 11.3.1 20220421

To view detailed results, visit:
https://lab.dpdk.org/results/dashboard/patchsets/26678/

UNH-IOL DPDK Community Lab

To manage your email subscriptions, visit: 
https://lab.dpdk.org/results/dashboard/preferences/subscriptions/


More information about the test-report mailing list