|SUCCESS| pw128643-128645 [PATCH] [v5,3/3] net/iavf: support Rx time
dpdklab at iol.unh.edu
dpdklab at iol.unh.edu
Thu Jun 15 04:11:13 CEST 2023
Test-Label: iol-aarch-unit-testing
Test-Status: SUCCESS
http://dpdk.org/patch/128645
_Testing PASS_
Submitter: Zhichao Zeng <zhichaox.zeng at intel.com>
Date: Wednesday, June 14 2023 01:49:48
DPDK git baseline: Repo:dpdk
Branch: master
CommitID:050de60d8a5cef8b7c10b4471905ca8bf69d670e
128643-128645 --> testing pass
Test environment and result as below:
+-----------------------------+---------------------------+------------------------------+----------------+--------------+
| Environment | cryptodev_sw_zuc_autotest | cryptodev_sw_snow3g_autotest | dpdk_unit_test | lpm_autotest |
+=============================+===========================+==============================+================+==============+
| Debian 11 | PASS | PASS | SKIPPED | SKIPPED |
+-----------------------------+---------------------------+------------------------------+----------------+--------------+
| (32-bit) ARM Ubuntu 20.04.4 | SKIPPED | SKIPPED | PASS | SKIPPED |
+-----------------------------+---------------------------+------------------------------+----------------+--------------+
| Ubuntu 20.04 ARM SVE | SKIPPED | SKIPPED | SKIPPED | PASS |
+-----------------------------+---------------------------+------------------------------+----------------+--------------+
Debian 11
Kernel: Container Host Kernel
Compiler: gcc 10.2.1
(32-bit) ARM Ubuntu 20.04.4
Kernel: 5.4.0-148-generic aarch64
Compiler: gcc 9.4
Ubuntu 20.04 ARM SVE
Kernel: 5.4.0-80-generic
Compiler: gcc 10.3.0 (Ubuntu 10.3.0-1ubuntu1~20.04)
To view detailed results, visit:
https://lab.dpdk.org/results/dashboard/patchsets/26671/
UNH-IOL DPDK Community Lab
To manage your email subscriptions, visit:
https://lab.dpdk.org/results/dashboard/preferences/subscriptions/
More information about the test-report
mailing list