|SUCCESS| pw128643-128645 [PATCH] [v5,3/3] net/iavf: support Rx time
dpdklab at iol.unh.edu
dpdklab at iol.unh.edu
Thu Jun 15 04:31:02 CEST 2023
Test-Label: iol-abi-testing
Test-Status: SUCCESS
http://dpdk.org/patch/128645
_Testing PASS_
Submitter: Zhichao Zeng <zhichaox.zeng at intel.com>
Date: Wednesday, June 14 2023 01:49:48
DPDK git baseline: Repo:dpdk
Branch: master
CommitID:050de60d8a5cef8b7c10b4471905ca8bf69d670e
128643-128645 --> testing pass
Test environment and result as below:
+-----------------+----------+
| Environment | abi_test |
+=================+==========+
| Debian Bullseye | PASS |
+-----------------+----------+
| Fedora 37 | PASS |
+-----------------+----------+
| CentOS Stream 8 | PASS |
+-----------------+----------+
| Ubuntu 22.04 | PASS |
+-----------------+----------+
| Fedora 38 | PASS |
+-----------------+----------+
| Debian Buster | PASS |
+-----------------+----------+
| RHEL 7 | PASS |
+-----------------+----------+
Debian Bullseye
Kernel: 5.4.0-122-generic
Compiler: gcc 10.2.1-6
Fedora 37
Kernel: Depends on container host system
Compiler: gcc 12.3.1
CentOS Stream 8
Kernel: 4.18.0-240.10.1.el8_3.x86_64
Compiler: gcc 8.4.1 20200928
Ubuntu 22.04
Kernel: 4.18.0-240.10.1.el8_3.x86_64
Compiler: gcc 11.3.0
Fedora 38
Kernel: Depends on container host
Compiler: clang 16.0.3
Debian Buster
Kernel: 5.4.0-122-generic
Compiler: gcc 8.3.0-6
RHEL 7
Kernel: 4.18.0-240.10.1.el8_3.x86_64
Compiler: gcc 4.8.5 20150623 (Red Hat 4.8.5-44)
To view detailed results, visit:
https://lab.dpdk.org/results/dashboard/patchsets/26671/
UNH-IOL DPDK Community Lab
To manage your email subscriptions, visit:
https://lab.dpdk.org/results/dashboard/preferences/subscriptions/
More information about the test-report
mailing list