|SUCCESS| pw128597 [PATCH] mailmap: update contributor entry
dpdklab at iol.unh.edu
dpdklab at iol.unh.edu
Thu Jun 15 06:39:22 CEST 2023
Test-Label: iol-aarch-unit-testing
Test-Status: SUCCESS
http://dpdk.org/patch/128597
_Testing PASS_
Submitter: Ivan Malov <ivan.malov at arknetworks.am>
Date: Tuesday, June 13 2023 14:03:53
DPDK git baseline: Repo:dpdk
Branch: master
CommitID:050de60d8a5cef8b7c10b4471905ca8bf69d670e
128597 --> testing pass
Test environment and result as below:
+-----------------------------+------------------------------+---------------------------+--------------+----------------+
| Environment | cryptodev_sw_snow3g_autotest | cryptodev_sw_zuc_autotest | lpm_autotest | dpdk_unit_test |
+=============================+==============================+===========================+==============+================+
| Debian 11 | PASS | PASS | SKIPPED | SKIPPED |
+-----------------------------+------------------------------+---------------------------+--------------+----------------+
| Ubuntu 20.04 ARM SVE | SKIPPED | SKIPPED | PASS | SKIPPED |
+-----------------------------+------------------------------+---------------------------+--------------+----------------+
| (32-bit) ARM Ubuntu 20.04.4 | SKIPPED | SKIPPED | SKIPPED | PASS |
+-----------------------------+------------------------------+---------------------------+--------------+----------------+
Debian 11
Kernel: Container Host Kernel
Compiler: gcc 10.2.1
Ubuntu 20.04 ARM SVE
Kernel: 5.4.0-80-generic
Compiler: gcc 10.3.0 (Ubuntu 10.3.0-1ubuntu1~20.04)
(32-bit) ARM Ubuntu 20.04.4
Kernel: 5.4.0-148-generic aarch64
Compiler: gcc 9.4
To view detailed results, visit:
https://lab.dpdk.org/results/dashboard/patchsets/26659/
UNH-IOL DPDK Community Lab
To manage your email subscriptions, visit:
https://lab.dpdk.org/results/dashboard/preferences/subscriptions/
More information about the test-report
mailing list