|SUCCESS| pw128597 [PATCH] mailmap: update contributor entry
dpdklab at iol.unh.edu
dpdklab at iol.unh.edu
Thu Jun 15 11:09:45 CEST 2023
Test-Label: iol-x86_64-compile-testing
Test-Status: SUCCESS
http://dpdk.org/patch/128597
_Testing PASS_
Submitter: Ivan Malov <ivan.malov at arknetworks.am>
Date: Tuesday, June 13 2023 14:03:53
DPDK git baseline: Repo:dpdk
Branch: master
CommitID:050de60d8a5cef8b7c10b4471905ca8bf69d670e
128597 --> testing pass
Test environment and result as below:
+---------------------+----------------------+--------------------+
| Environment | dpdk_mingw64_compile | dpdk_meson_compile |
+=====================+======================+====================+
| Windows Server 2019 | PASS | PASS |
+---------------------+----------------------+--------------------+
| FreeBSD 13 | SKIPPED | PASS |
+---------------------+----------------------+--------------------+
| RHEL8 | SKIPPED | PASS |
+---------------------+----------------------+--------------------+
| CentOS Stream 9 | SKIPPED | PASS |
+---------------------+----------------------+--------------------+
| Debian Bullseye | SKIPPED | PASS |
+---------------------+----------------------+--------------------+
| Ubuntu 22.04 | SKIPPED | PASS |
+---------------------+----------------------+--------------------+
| Fedora 37 | SKIPPED | PASS |
+---------------------+----------------------+--------------------+
| Ubuntu 20.04 | SKIPPED | PASS |
+---------------------+----------------------+--------------------+
| CentOS Stream 8 | SKIPPED | PASS |
+---------------------+----------------------+--------------------+
| openSUSE Leap 15 | SKIPPED | PASS |
+---------------------+----------------------+--------------------+
| RHEL 7 | SKIPPED | PASS |
+---------------------+----------------------+--------------------+
| Fedora 38 | SKIPPED | PASS |
+---------------------+----------------------+--------------------+
| Alpine | SKIPPED | PASS |
+---------------------+----------------------+--------------------+
| Debian Buster | SKIPPED | PASS |
+---------------------+----------------------+--------------------+
Windows Server 2019
Kernel: 10.0
Compiler: clang 14.0 and gcc 8.1.0 (MinGW)
FreeBSD 13
Kernel: 13.0
Compiler: clang 11.0.1
RHEL8
Kernel: 4.18.0-240.10.1.el8_3.x86_64
Compiler: gcc 8.3.1 20191121 (Red Hat 8.3.1-5)
CentOS Stream 9
Kernel: 4.18.0-240.10.1.el8_3.x86_64
Compiler: gcc 11.3.1 20220421
Debian Bullseye
Kernel: 5.4.0-122-generic
Compiler: gcc 10.2.1-6
Ubuntu 22.04
Kernel: 4.18.0-240.10.1.el8_3.x86_64
Compiler: gcc 11.3.0
Fedora 37
Kernel: Depends on container host system
Compiler: gcc 12.3.1
Ubuntu 20.04
Kernel: 4.18.0-240.10.1.el8_3.x86_64
Compiler: gcc 9.3.0-17ubuntu1~20.04
CentOS Stream 8
Kernel: 4.18.0-240.10.1.el8_3.x86_64
Compiler: gcc 8.4.1 20200928
openSUSE Leap 15
Kernel: 4.18.0-240.10.1.el8_3.x86_64
Compiler: gcc 7.5.0
RHEL 7
Kernel: 4.18.0-240.10.1.el8_3.x86_64
Compiler: gcc 4.8.5 20150623 (Red Hat 4.8.5-44)
Fedora 38
Kernel: Depends on container host
Compiler: gcc 13.1.1
Alpine
Kernel: 5.4.0-73-generic
Compiler: gcc (Alpine 10.3.1_git20210424) 10.3.1 20210424
Debian Buster
Kernel: 5.4.0-122-generic
Compiler: gcc 8.3.0-6
To view detailed results, visit:
https://lab.dpdk.org/results/dashboard/patchsets/26659/
UNH-IOL DPDK Community Lab
To manage your email subscriptions, visit:
https://lab.dpdk.org/results/dashboard/preferences/subscriptions/
More information about the test-report
mailing list