|SUCCESS| pw128733 [PATCH] crypto/openssl: fix SM2 for older openssl

dpdklab at iol.unh.edu dpdklab at iol.unh.edu
Thu Jun 15 12:11:18 CEST 2023


Test-Label: iol-abi-testing
Test-Status: SUCCESS
http://dpdk.org/patch/128733

_Testing PASS_

Submitter: Ciara Power <ciara.power at intel.com>
Date: Thursday, June 15 2023 08:03:18 
DPDK git baseline: Repo:dpdk
  Branch: master
  CommitID:050de60d8a5cef8b7c10b4471905ca8bf69d670e

128733 --> testing pass

Test environment and result as below:

+-----------------+----------+
|   Environment   | abi_test |
+=================+==========+
| Fedora 37       | PASS     |
+-----------------+----------+
| RHEL 7          | PASS     |
+-----------------+----------+
| CentOS Stream 9 | PASS     |
+-----------------+----------+
| Ubuntu 22.04    | PASS     |
+-----------------+----------+
| Debian Bullseye | PASS     |
+-----------------+----------+
| RHEL8           | PASS     |
+-----------------+----------+
| Fedora 38       | PASS     |
+-----------------+----------+
| Debian Buster   | PASS     |
+-----------------+----------+


Fedora 37
	Kernel: Depends on container host system
	Compiler: gcc 12.3.1

RHEL 7
	Kernel: 4.18.0-240.10.1.el8_3.x86_64
	Compiler: gcc 4.8.5 20150623 (Red Hat 4.8.5-44)

CentOS Stream 9
	Kernel: 4.18.0-240.10.1.el8_3.x86_64
	Compiler: gcc 11.3.1 20220421

Ubuntu 22.04
	Kernel: 4.18.0-240.10.1.el8_3.x86_64
	Compiler: gcc 11.3.0

Debian Bullseye
	Kernel: 5.4.0-122-generic
	Compiler: gcc 10.2.1-6

RHEL8
	Kernel: 4.18.0-240.10.1.el8_3.x86_64
	Compiler: gcc 8.3.1 20191121 (Red Hat 8.3.1-5)

Fedora 38
	Kernel: Depends on container host
	Compiler: clang 16.0.3

Debian Buster
	Kernel: 5.4.0-122-generic
	Compiler: gcc 8.3.0-6

To view detailed results, visit:
https://lab.dpdk.org/results/dashboard/patchsets/26702/

UNH-IOL DPDK Community Lab

To manage your email subscriptions, visit: 
https://lab.dpdk.org/results/dashboard/preferences/subscriptions/


More information about the test-report mailing list