|SUCCESS| pw128736-128738 [PATCH] [v2,3/3] net/sfc: support FEC feat

dpdklab at iol.unh.edu dpdklab at iol.unh.edu
Thu Jun 15 12:49:17 CEST 2023


Test-Label: iol-abi-testing
Test-Status: SUCCESS
http://dpdk.org/patch/128738

_Testing PASS_

Submitter: Denis Pryazhennikov <denis.pryazhennikov at arknetworks.am>
Date: Thursday, June 15 2023 08:38:47 
DPDK git baseline: Repo:dpdk
  Branch: master
  CommitID:050de60d8a5cef8b7c10b4471905ca8bf69d670e

128736-128738 --> testing pass

Test environment and result as below:

+---------------+----------+
|  Environment  | abi_test |
+===============+==========+
| RHEL8         | PASS     |
+---------------+----------+
| RHEL 7        | PASS     |
+---------------+----------+
| Debian Buster | PASS     |
+---------------+----------+
| Ubuntu 22.04  | PASS     |
+---------------+----------+


RHEL8
	Kernel: 4.18.0-240.10.1.el8_3.x86_64
	Compiler: gcc 8.3.1 20191121 (Red Hat 8.3.1-5)

RHEL 7
	Kernel: 4.18.0-240.10.1.el8_3.x86_64
	Compiler: gcc 4.8.5 20150623 (Red Hat 4.8.5-44)

Debian Buster
	Kernel: 5.4.0-122-generic
	Compiler: gcc 8.3.0-6

Ubuntu 22.04
	Kernel: 4.18.0-240.10.1.el8_3.x86_64
	Compiler: gcc 11.3.0

To view detailed results, visit:
https://lab.dpdk.org/results/dashboard/patchsets/26703/

UNH-IOL DPDK Community Lab

To manage your email subscriptions, visit: 
https://lab.dpdk.org/results/dashboard/preferences/subscriptions/


More information about the test-report mailing list