|SUCCESS| pw128745-128746 [PATCH] [3/3] common/cnxk: update minimum
dpdklab at iol.unh.edu
dpdklab at iol.unh.edu
Thu Jun 15 16:13:38 CEST 2023
Test-Label: iol-aarch-unit-testing
Test-Status: SUCCESS
http://dpdk.org/patch/128746
_Testing PASS_
Submitter: Nithin Dabilpuram <ndabilpuram at marvell.com>
Date: Thursday, June 15 2023 13:09:24
DPDK git baseline: Repo:dpdk
Branch: master
CommitID:050de60d8a5cef8b7c10b4471905ca8bf69d670e
128745-128746 --> testing pass
Test environment and result as below:
+-----------------------------+---------------------------+----------------+--------------+------------------------------+
| Environment | cryptodev_sw_zuc_autotest | dpdk_unit_test | lpm_autotest | cryptodev_sw_snow3g_autotest |
+=============================+===========================+================+==============+==============================+
| Debian 11 | PASS | SKIPPED | SKIPPED | PASS |
+-----------------------------+---------------------------+----------------+--------------+------------------------------+
| (32-bit) ARM Ubuntu 20.04.4 | SKIPPED | PASS | SKIPPED | SKIPPED |
+-----------------------------+---------------------------+----------------+--------------+------------------------------+
| Ubuntu 20.04 ARM SVE | SKIPPED | SKIPPED | PASS | SKIPPED |
+-----------------------------+---------------------------+----------------+--------------+------------------------------+
Debian 11
Kernel: Container Host Kernel
Compiler: gcc 10.2.1
(32-bit) ARM Ubuntu 20.04.4
Kernel: 5.4.0-148-generic aarch64
Compiler: gcc 9.4
Ubuntu 20.04 ARM SVE
Kernel: 5.4.0-80-generic
Compiler: gcc 10.3.0 (Ubuntu 10.3.0-1ubuntu1~20.04)
To view detailed results, visit:
https://lab.dpdk.org/results/dashboard/patchsets/26706/
UNH-IOL DPDK Community Lab
To manage your email subscriptions, visit:
https://lab.dpdk.org/results/dashboard/preferences/subscriptions/
More information about the test-report
mailing list