|SUCCESS| pw128751 [PATCH] config/arm: add AMD CDX
dpdklab at iol.unh.edu
dpdklab at iol.unh.edu
Thu Jun 15 18:57:36 CEST 2023
Test-Label: iol-abi-testing
Test-Status: SUCCESS
http://dpdk.org/patch/128751
_Testing PASS_
Submitter: Nipun Gupta <nipun.gupta at amd.com>
Date: Thursday, June 15 2023 16:18:46
DPDK git baseline: Repo:dpdk
Branch: master
CommitID:050de60d8a5cef8b7c10b4471905ca8bf69d670e
128751 --> testing pass
Test environment and result as below:
+--------------+----------+
| Environment | abi_test |
+==============+==========+
| Fedora 38 | PASS |
+--------------+----------+
| Ubuntu 22.04 | PASS |
+--------------+----------+
| RHEL8 | PASS |
+--------------+----------+
Fedora 38
Kernel: Depends on container host
Compiler: gcc 13.1.1
Ubuntu 22.04
Kernel: 4.18.0-240.10.1.el8_3.x86_64
Compiler: gcc 11.3.0
RHEL8
Kernel: 4.18.0-240.10.1.el8_3.x86_64
Compiler: gcc 8.3.1 20191121 (Red Hat 8.3.1-5)
To view detailed results, visit:
https://lab.dpdk.org/results/dashboard/patchsets/26711/
UNH-IOL DPDK Community Lab
To manage your email subscriptions, visit:
https://lab.dpdk.org/results/dashboard/preferences/subscriptions/
More information about the test-report
mailing list