|SUCCESS| pw128776 [PATCH] lib: fix coverity for unused variable

dpdklab at iol.unh.edu dpdklab at iol.unh.edu
Fri Jun 16 16:02:10 CEST 2023


Test-Label: iol-abi-testing
Test-Status: SUCCESS
http://dpdk.org/patch/128776

_Testing PASS_

Submitter: Amit Prakash Shukla <amitprakashs at marvell.com>
Date: Friday, June 16 2023 11:06:40 
DPDK git baseline: Repo:dpdk
  Branch: master
  CommitID:7556a1a355fb377279508735f7afc1faf1d00158

128776 --> testing pass

Test environment and result as below:

+-------------+----------+
| Environment | abi_test |
+=============+==========+
| Fedora 37   | PASS     |
+-------------+----------+
| RHEL 7      | PASS     |
+-------------+----------+
| Fedora 38   | PASS     |
+-------------+----------+


Fedora 37
	Kernel: Depends on container host system
	Compiler: gcc 12.3.1

RHEL 7
	Kernel: 4.18.0-240.10.1.el8_3.x86_64
	Compiler: gcc 4.8.5 20150623 (Red Hat 4.8.5-44)

Fedora 38
	Kernel: Depends on container host
	Compiler: clang 16.0.3

To view detailed results, visit:
https://lab.dpdk.org/results/dashboard/patchsets/26725/

UNH-IOL DPDK Community Lab

To manage your email subscriptions, visit: 
https://lab.dpdk.org/results/dashboard/preferences/subscriptions/


More information about the test-report mailing list