|SUCCESS| pw128775 [PATCH] net/nfp: fix the address always related w

dpdklab at iol.unh.edu dpdklab at iol.unh.edu
Fri Jun 16 16:35:53 CEST 2023


Test-Label: iol-x86_64-compile-testing
Test-Status: SUCCESS
http://dpdk.org/patch/128775

_Testing PASS_

Submitter: Chaoyong He <chaoyong.he at corigine.com>
Date: Friday, June 16 2023 08:57:23 
DPDK git baseline: Repo:dpdk
  Branch: master
  CommitID:7556a1a355fb377279508735f7afc1faf1d00158

128775 --> testing pass

Test environment and result as below:

+---------------------+--------------------+----------------------+
|     Environment     | dpdk_meson_compile | dpdk_mingw64_compile |
+=====================+====================+======================+
| FreeBSD 13          | PASS               | SKIPPED              |
+---------------------+--------------------+----------------------+
| Windows Server 2019 | PASS               | PASS                 |
+---------------------+--------------------+----------------------+
| Debian Buster       | PASS               | SKIPPED              |
+---------------------+--------------------+----------------------+


FreeBSD 13
	Kernel: 13.0
	Compiler: clang 11.0.1

Windows Server 2019
	Kernel: 10.0
	Compiler: clang 14.0 and gcc 8.1.0 (MinGW)

Debian Buster
	Kernel: 5.4.0-122-generic
	Compiler: gcc 8.3.0-6

To view detailed results, visit:
https://lab.dpdk.org/results/dashboard/patchsets/26724/

UNH-IOL DPDK Community Lab

To manage your email subscriptions, visit: 
https://lab.dpdk.org/results/dashboard/preferences/subscriptions/


More information about the test-report mailing list