|SUCCESS| pw128784 [PATCH] [v6] crypto/qat: default to IPsec MB for

dpdklab at iol.unh.edu dpdklab at iol.unh.edu
Fri Jun 16 21:56:57 CEST 2023


Test-Label: iol-abi-testing
Test-Status: SUCCESS
http://dpdk.org/patch/128784

_Testing PASS_

Submitter: Brian Dooley <brian.dooley at intel.com>
Date: Friday, June 16 2023 16:02:23 
DPDK git baseline: Repo:dpdk
  Branch: master
  CommitID:7556a1a355fb377279508735f7afc1faf1d00158

128784 --> testing pass

Test environment and result as below:

+---------------+----------+
|  Environment  | abi_test |
+===============+==========+
| RHEL 7        | PASS     |
+---------------+----------+
| Fedora 37     | PASS     |
+---------------+----------+
| Fedora 38     | PASS     |
+---------------+----------+
| Debian Buster | PASS     |
+---------------+----------+


RHEL 7
	Kernel: 4.18.0-240.10.1.el8_3.x86_64
	Compiler: gcc 4.8.5 20150623 (Red Hat 4.8.5-44)

Fedora 37
	Kernel: Depends on container host system
	Compiler: gcc 12.3.1

Fedora 38
	Kernel: Depends on container host
	Compiler: clang 16.0.3

Debian Buster
	Kernel: 5.4.0-122-generic
	Compiler: gcc 8.3.0-6

To view detailed results, visit:
https://lab.dpdk.org/results/dashboard/patchsets/26728/

UNH-IOL DPDK Community Lab

To manage your email subscriptions, visit: 
https://lab.dpdk.org/results/dashboard/preferences/subscriptions/


More information about the test-report mailing list