|SUCCESS| [GIT MASTER] 7556a1a355fb377279508735f7afc1faf1d00158

dpdklab at iol.unh.edu dpdklab at iol.unh.edu
Sat Jun 17 03:15:11 CEST 2023


_Testing PASS_

Branch: dpdk

7556a1a355fb377279508735f7afc1faf1d00158 --> testing pass

Test environment and result as below:

+---------------+----------+
|  Environment  | abi_test |
+===============+==========+
| Fedora 37     | PASS     |
+---------------+----------+
| RHEL8         | PASS     |
+---------------+----------+
| Debian Buster | PASS     |
+---------------+----------+
| RHEL 7        | PASS     |
+---------------+----------+


Fedora 37
	Kernel: Depends on container host system
	Compiler: gcc 12.3.1

RHEL8
	Kernel: 4.18.0-240.10.1.el8_3.x86_64
	Compiler: gcc 8.3.1 20191121 (Red Hat 8.3.1-5)

Debian Buster
	Kernel: 5.4.0-122-generic
	Compiler: gcc 8.3.0-6

RHEL 7
	Kernel: 4.18.0-240.10.1.el8_3.x86_64
	Compiler: gcc 4.8.5 20150623 (Red Hat 4.8.5-44)

To view detailed results, visit:
https://lab.dpdk.org/results/dashboard/tarballs/25063/

UNH-IOL DPDK Community Lab

To manage your email subscriptions, visit: 
https://lab.dpdk.org/results/dashboard/preferences/subscriptions/


More information about the test-report mailing list